BEGIN:VCALENDAR
VERSION:2.0
PRODID:-//Amikassa - ECPv6.15.13.1//NONSGML v1.0//EN
CALSCALE:GREGORIAN
METHOD:PUBLISH
X-WR-CALNAME:Amikassa
X-ORIGINAL-URL:https://amikassa.sk
X-WR-CALDESC:Események Amikassa
REFRESH-INTERVAL;VALUE=DURATION:PT1H
X-Robots-Tag:noindex
X-PUBLISHED-TTL:PT1H
BEGIN:VTIMEZONE
TZID:Europe/Budapest
BEGIN:DAYLIGHT
TZOFFSETFROM:+0100
TZOFFSETTO:+0200
TZNAME:CEST
DTSTART:20240331T010000
END:DAYLIGHT
BEGIN:STANDARD
TZOFFSETFROM:+0200
TZOFFSETTO:+0100
TZNAME:CET
DTSTART:20241027T010000
END:STANDARD
BEGIN:DAYLIGHT
TZOFFSETFROM:+0100
TZOFFSETTO:+0200
TZNAME:CEST
DTSTART:20250330T010000
END:DAYLIGHT
BEGIN:STANDARD
TZOFFSETFROM:+0200
TZOFFSETTO:+0100
TZNAME:CET
DTSTART:20251026T010000
END:STANDARD
BEGIN:DAYLIGHT
TZOFFSETFROM:+0100
TZOFFSETTO:+0200
TZNAME:CEST
DTSTART:20260329T010000
END:DAYLIGHT
BEGIN:STANDARD
TZOFFSETFROM:+0200
TZOFFSETTO:+0100
TZNAME:CET
DTSTART:20261025T010000
END:STANDARD
END:VTIMEZONE
BEGIN:VEVENT
DTSTART;TZID=Europe/Budapest:20251016T190000
DTEND;TZID=Europe/Budapest:20251016T203000
DTSTAMP:20260426T033801
CREATED:20251020T082110Z
LAST-MODIFIED:20251020T082110Z
UID:40051-1760641200-1760646600@amikassa.sk
SUMMARY:Thália Színház: Box Humana (Mi van veled\, Sándor?)
DESCRIPTION:Box Humana (Mi van veled\, Sándor?)\nIdőpont: 16.10.2025 19:00 – 20:30 \nHelyszín: Thália Színház – Kolár P. bérlet \nFurcsa alakok egy csoportja bukkan föl a színpadon. Kik ők? Kutatók\, tudósok\, művészek\, polgárok\, aktivisták\, időutazók\, kommentelők\, álmodozók\, akárkik? Sándort keresik. Beszélgetni akarnak vele. Csak beszélgetni? Márai Sándor év van\, a nagy kassai polgárt ünnepeljük. Akit nagyon tisztelünk\, azzal megtörténhet\, hogy saját emlékművévé válik. Legendák ködébe vész. Emlegetjük\, de nem olvassuk. Idézzük\, de kontextus nélküli kiragadott mondatokban létezik. Hivatkozunk rá\, de mit tudunk róla? Fontos nekünk\, de az ájult tisztelet szintjén. Belengi a pátosz\, megfojtja a rajongás\, láthatatlanná teszi őt az áhítat. Az ünnepelt zseni nagy kívülálló volt és nagy magányos. Mániákusan gondolkodott\, küzdött\, vágyakozott. Tisztán látott\, érzékeny volt\, tévedett. Összefüggéseket keresett\, gyönyörű mondatokba menekült\, önző volt. Sebezhető volt és fölényesen erős és okos. Életművében összeért kozmosz és bolhapiac\, világtörténelem és hajhullás\, alkotói felelősség és az élet apró szépségei\, melyeket séta közben vesz észre az ember. \nMárai Sándor Mágia című kötetének nyolc novellája alapján Forgács Miklós és Czajlik József álmodott meg egy olyan világot\, amely még a hétpróbás Márai-szakértőket és rajongókat is meglepheti. Izgalmas történet bontakozik ki a Mester és teremtményei között. A hasbeszélő és nyolc éve elhagyott bábjai beszélgetnek.\nAzt követjük\, ahogy ők egymás között tisztázzák a múltat\, felelevenítik azokat az élményeket\, amelyek alakították őket\, a saját identitásukat is vizsgálják\, eljutnak a végső kérdésig: Ki vagyok én? A szereplők művészek is\, de a hétköznapi életben is megmerítkeznek. A tengert akarják látni\, arról beszélgetnek\, hogyan is ismerkedtek meg\, mit is gondolnak az otthonukról\, miképpen élik meg a nagy csalódást és vágynak magányra\, milyen egészen meglepő elhatározásra jutnak\, ha tényleg szeretetre vágynak. És persze megelevenedik a cirkusz\, az orfeum varázslatos világa is. Csupaszín\, váltás\, meglepetés\, ötlet ez a különös világ. Áradó\, mágikus mondatok és megkapó\, finom vagy éppen groteszkbe hajló humor. Márai minden történetében arról mesél: Nagyon törékenyek vagyunk mi emberek. \nSzereplők: \n\n\n\nARTÚR (A MESTER)\nGál Tamás (Jászai Mari-díjas) m.v.\n\n\nDEBÓRA\nKövesdi Szabó Mária m.v\n\n\nEDGÁR\nOllé Erik\n\n\nEVELIN\nNagy Kornélia\n\n\nBARNABÁS\nMadarász Máté\n\n\n\n  \nRendező: Czajlik József \nBemutató: 2025. október 16. \nTovábbi időpontok\n\n\n\n28.10.2025 10:00 – 11:30 · Thália Színház – Csendes L. bérlet\n29.10.2025 10:00 – 11:30 · Thália Színház – Kovács J. bérlet\n30.10.2025 19:00 – 20:30 · Thália Színház – Gyurkovics M. bérlet\n07.11.2025 19:00 – 20:30 · Thália Színház – László G. bérlet\n11.11.2025 10:00 – 11:30 · Thália Színház\n11.11.2025 19:00 – 20:30 · Thália Színház – V. Szabó R. bérlet\n12.11.2025 19:00 – 20:30 · Thália Színház – Pólos Á. bérlet\n\n 
URL:https://amikassa.sk/esemeny/thalia-szinhaz-box-humana-mi-van-veled-sandor-2/
LOCATION:Thália Színház\, Mojmírova 3\, Kassa-Košice\, 04001\, Szlovákia
CATEGORIES:Színház
ATTACH;FMTTYPE=image/jpeg:https://amikassa.sk/wp-content/uploads/2025/10/RN_Thalia_boxhumana_highres-92-scaled.jpg
ORGANIZER;CN="Th%C3%A1lia Sz%C3%ADnh%C3%A1z":MAILTO:office@thaliaszinhaz.sk
END:VEVENT
END:VCALENDAR