BEGIN:VCALENDAR
VERSION:2.0
PRODID:-//Amikassa - ECPv6.15.13.1//NONSGML v1.0//EN
CALSCALE:GREGORIAN
METHOD:PUBLISH
X-ORIGINAL-URL:https://amikassa.sk
X-WR-CALDESC:Események Amikassa
REFRESH-INTERVAL;VALUE=DURATION:PT1H
X-Robots-Tag:noindex
X-PUBLISHED-TTL:PT1H
BEGIN:VTIMEZONE
TZID:Europe/Budapest
BEGIN:DAYLIGHT
TZOFFSETFROM:+0100
TZOFFSETTO:+0200
TZNAME:CEST
DTSTART:20240331T010000
END:DAYLIGHT
BEGIN:STANDARD
TZOFFSETFROM:+0200
TZOFFSETTO:+0100
TZNAME:CET
DTSTART:20241027T010000
END:STANDARD
BEGIN:DAYLIGHT
TZOFFSETFROM:+0100
TZOFFSETTO:+0200
TZNAME:CEST
DTSTART:20250330T010000
END:DAYLIGHT
BEGIN:STANDARD
TZOFFSETFROM:+0200
TZOFFSETTO:+0100
TZNAME:CET
DTSTART:20251026T010000
END:STANDARD
BEGIN:DAYLIGHT
TZOFFSETFROM:+0100
TZOFFSETTO:+0200
TZNAME:CEST
DTSTART:20260329T010000
END:DAYLIGHT
BEGIN:STANDARD
TZOFFSETFROM:+0200
TZOFFSETTO:+0100
TZNAME:CET
DTSTART:20261025T010000
END:STANDARD
END:VTIMEZONE
BEGIN:VEVENT
DTSTART;TZID=Europe/Budapest:20251027T100000
DTEND;TZID=Europe/Budapest:20251027T110000
DTSTAMP:20260426T022040
CREATED:20251020T093641Z
LAST-MODIFIED:20251020T093641Z
UID:40070-1761559200-1761562800@amikassa.sk
SUMMARY:Thália Színház: Ágacska
DESCRIPTION:Csukás István – Darvas Ferenc: Ágacska\nIdőpont: 27.10.2025 10:00 – 11:00 \nHelyszín: Thália Színház \n\nZenés mesejáték\n\n\n\n\nVan egy hely a világon\, ahol mindig nyitva áll az ajtó. Itt lakik a festő\, aki egyben titkos varázsló is és játékos kedvű\, minden bolondozásra kapható színészekkel barátkozik. Most éppen hatalmas vihar tör ki\, megtépázza az ősöreg óriási platánfát is és az igazi mesebeli réten megjelenik egy különös\, kedves teremtés\, Ágacska\, aki nem tudja\, hogy ki ő. A legkülönfélébb lényekkel találkozik\, virággal\, lepkével\, gombával\, és annyit tud meg\, hogy ő leginkább az emberre hasonlít. Egyre kíváncsibban vándorol tovább és lélegzetelállító kalandokba bonyolódik. Belekerül például a kacsák és békák ádáz háborújába\, de az is kiderül\, hogy az egerek és a macskák harca is folyamatosan dúl\, valamint\, hogy a tűznek hatalmas ereje van és nagyon veszélyes. \nÁgacska megismerkedik a kancsal\, de nagyon jószívű Dani kacsával\, a folyton röhögő\, de mindig segítőkész Berci békával\, valamint a rendkívül bátor és foghíjas Pösze egérrel. Mindegyikük az embernek köszönheti a baját\, de mindannyiukon csak az ember tud segíteni. Le kell győzniük a félelmüket ehhez\, de a barátság erejével ez is sikerül. Ágacska éppen az emberhez igyekszik\, hiszen jól meg akarja nézni kire is hasonlít és hátha végre megtudja\, hogy kicsoda is ő\, hová tartozik\, mi is a dolga ezen a világon. A jóbarátok mindvégig kitartanak egymás mellett és a mese végére kiderül\, hogy egy kis odafigyeléssel\, szeretettel\, gondoskodással minden probléma megoldható. \nRendezte: Illés Oszkár – Pólos Árpád \nBemutató: 2023. szeptember 28. \nSzereplők: \n\n\n\nÁgacska\nDégner Lilla\n\n\nPösze egér\nNagy Kornélia\n\n\nDani kacsa\nMadarász Máté\n\n\nBerci béka\nRubóczki Márkó\n\n\nVarázsló\nIllés Oszkár
URL:https://amikassa.sk/esemeny/thalia-szinhaz-agacska/
LOCATION:Thália Színház\, Mojmírova 3\, Kassa-Košice\, 04001\, Szlovákia
CATEGORIES:Gyerekeknek,Színház
ATTACH;FMTTYPE=image/jpeg:https://amikassa.sk/wp-content/uploads/2023/10/IMG_20230928_120216-scaled.jpg
ORGANIZER;CN="Th%C3%A1lia Sz%C3%ADnh%C3%A1z":MAILTO:office@thaliaszinhaz.sk
END:VEVENT
END:VCALENDAR