BEGIN:VCALENDAR
VERSION:2.0
PRODID:-//Amikassa - ECPv6.15.13.1//NONSGML v1.0//EN
CALSCALE:GREGORIAN
METHOD:PUBLISH
X-WR-CALNAME:Amikassa
X-ORIGINAL-URL:https://amikassa.sk
X-WR-CALDESC:Események Amikassa
REFRESH-INTERVAL;VALUE=DURATION:PT1H
X-Robots-Tag:noindex
X-PUBLISHED-TTL:PT1H
BEGIN:VTIMEZONE
TZID:Europe/Budapest
BEGIN:DAYLIGHT
TZOFFSETFROM:+0100
TZOFFSETTO:+0200
TZNAME:CEST
DTSTART:20250330T010000
END:DAYLIGHT
BEGIN:STANDARD
TZOFFSETFROM:+0200
TZOFFSETTO:+0100
TZNAME:CET
DTSTART:20251026T010000
END:STANDARD
BEGIN:DAYLIGHT
TZOFFSETFROM:+0100
TZOFFSETTO:+0200
TZNAME:CEST
DTSTART:20260329T010000
END:DAYLIGHT
BEGIN:STANDARD
TZOFFSETFROM:+0200
TZOFFSETTO:+0100
TZNAME:CET
DTSTART:20261025T010000
END:STANDARD
BEGIN:DAYLIGHT
TZOFFSETFROM:+0100
TZOFFSETTO:+0200
TZNAME:CEST
DTSTART:20270328T010000
END:DAYLIGHT
BEGIN:STANDARD
TZOFFSETFROM:+0200
TZOFFSETTO:+0100
TZNAME:CET
DTSTART:20271031T010000
END:STANDARD
END:VTIMEZONE
BEGIN:VEVENT
DTSTART;TZID=Europe/Budapest:20260408T170000
DTEND;TZID=Europe/Budapest:20260408T170000
DTSTAMP:20260425T191742
CREATED:20260403T155456Z
LAST-MODIFIED:20260403T155456Z
UID:40985-1775667600-1775667600@amikassa.sk
SUMMARY:Tavaszi Magyar Építészeti Napok
DESCRIPTION:Tavaszi Magyar Építészeti Napok\nA Kassai Építész Klub a Magyar Építészeti Napok keretén belül két kiállítást és előadást szervez. \nMagyar Élő Építészet – Határtalan Országépítés \nMakovecz tanítványok kiállítása \nKiállításmegnyitó: szerdán\, 2026. április 8-án\, 17.00-kor a FiguratiF Galeriában\, Erzsébet uta 42. \nA kiállítást Salamin Ferenc az MMA Építészeti Tagozatának vezetője nyitja meg. \nA megnyitót követően Salamin Ferenc „Visegrádi Nyári Építész Táborok” című előadása fogja követni. Mely visszaemlékezés a múlt század végén Makovecz Imre által szervezett építészdiákok visegrádi táboraira\, amikor a diákok saját terveik alapján több kis építményt hoztak létre. \nCsaládi házak a V4+ országaiban \nKiállításmegnyitó: csütörtökön\, 2026. április 9-én\, 17.00-kor a Műszaki Egyetem Művészeti Karának átriumában \nA kiállítást Nagy Csaba\, a MÉSZ új elnöke nyitja meg.
URL:https://amikassa.sk/esemeny/tavaszi-magyar-epiteszeti-napok/
LOCATION:MaJel Központ\, Alžbetina 42\, Kassa\, Szlovákia
CATEGORIES:Előadások és könyvbemutatók,Kiállítások
ATTACH;FMTTYPE=image/jpeg:https://amikassa.sk/wp-content/uploads/2026/04/Madarska_ziva_architektura_plagatHU.jpg
END:VEVENT
END:VCALENDAR