BEGIN:VCALENDAR
VERSION:2.0
PRODID:-//Amikassa - ECPv6.15.13.1//NONSGML v1.0//EN
CALSCALE:GREGORIAN
METHOD:PUBLISH
X-WR-CALNAME:Amikassa
X-ORIGINAL-URL:https://amikassa.sk
X-WR-CALDESC:Események Amikassa
REFRESH-INTERVAL;VALUE=DURATION:PT1H
X-Robots-Tag:noindex
X-PUBLISHED-TTL:PT1H
BEGIN:VTIMEZONE
TZID:Europe/Helsinki
BEGIN:DAYLIGHT
TZOFFSETFROM:+0200
TZOFFSETTO:+0300
TZNAME:EEST
DTSTART:20130331T010000
END:DAYLIGHT
BEGIN:STANDARD
TZOFFSETFROM:+0300
TZOFFSETTO:+0200
TZNAME:EET
DTSTART:20131027T010000
END:STANDARD
BEGIN:DAYLIGHT
TZOFFSETFROM:+0200
TZOFFSETTO:+0300
TZNAME:EEST
DTSTART:20140330T010000
END:DAYLIGHT
BEGIN:STANDARD
TZOFFSETFROM:+0300
TZOFFSETTO:+0200
TZNAME:EET
DTSTART:20141026T010000
END:STANDARD
BEGIN:DAYLIGHT
TZOFFSETFROM:+0200
TZOFFSETTO:+0300
TZNAME:EEST
DTSTART:20150329T010000
END:DAYLIGHT
BEGIN:STANDARD
TZOFFSETFROM:+0300
TZOFFSETTO:+0200
TZNAME:EET
DTSTART:20151025T010000
END:STANDARD
BEGIN:DAYLIGHT
TZOFFSETFROM:+0200
TZOFFSETTO:+0300
TZNAME:EEST
DTSTART:20160327T010000
END:DAYLIGHT
BEGIN:STANDARD
TZOFFSETFROM:+0300
TZOFFSETTO:+0200
TZNAME:EET
DTSTART:20161030T010000
END:STANDARD
END:VTIMEZONE
BEGIN:VEVENT
DTSTART;TZID=Europe/Helsinki:20151003T190000
DTEND;TZID=Europe/Helsinki:20151003T190000
DTSTAMP:20260426T062815
CREATED:20151002T195443Z
LAST-MODIFIED:20151002T195443Z
UID:5215-1443898800-1443898800@amikassa.sk
SUMMARY:Fehér éjszaka
DESCRIPTION:A Fehér Éjszaka 9 különböző ország 34 művészeti projektjét hozza el Kassára a hétvégén. Az immár 6. alkalommal megrendezésre kerülő fesztivál kiállításait a rendezők ismét a modern művészeteknek szentelik. A belépés ingyenes. \nMinden odalátogató egy kis fesztiváltérképet kap\, mely elvezeti a különböző installációkhoz\, koncertekhez\, filmvetítésekhez\, színházi- és táncelőadásokhoz. A művészeti alkotások mellett az érdeklődők elé útközben csodálatos terek tárulnak\, mint például egy udvar\, park\, állomás\, tavacska\, parkolóhely\, galéria\, melyek egy átlagos éjszakán láthatatlanok vagy hozzáférhetetlenek. \nTérkép:
URL:https://amikassa.sk/esemeny/feher-ejszaka/
CATEGORIES:Fesztiválok,Kiállítások,Workshopok és táborok
ATTACH;FMTTYPE=image/jpeg:https://amikassa.sk/wp-content/uploads/2015/10/10714194_375117192638498_265842239284938593_o.jpg
ORGANIZER;CN="BIELA NOC":MAILTO:zuzana@bielanoc.sk
END:VEVENT
BEGIN:VEVENT
DTSTART;TZID=Europe/Helsinki:20141004T190000
DTEND;TZID=Europe/Helsinki:20141005T020000
DTSTAMP:20260426T062815
CREATED:20140922T220850Z
LAST-MODIFIED:20140922T220850Z
UID:1431-1412449200-1412474400@amikassa.sk
SUMMARY:Personal Moses - Személyes Mózes a zsinagógában
DESCRIPTION:Kassai Fehér Éjszaka – Biela Noc \nKassa városa az éjszaka folyamán interaktív térré válik és hagyományos ciklusa néhány órára megszűnik létezni.\nA zenei és fényhatások installációi az éjszakai városba új életet lehelnek és az éjszaka fehérré válik.\nA kulturális és nyilvános terek megnyílnak a látogatók előtt és nem mindennapi élményben részesítik őket. \nA kiállítás egy opera perfomanszal 19:00-kor nyílik meg\, melyben közreműködik Dégner Lilla. \nSuchoža József\nA Personal Moses (A személyes Mózes) egy olyan site-specific video installáció\, mely a kassai Harang-utcai Zsinagóga egy konkrét terére készült. Olyan optikai illúziót kelt\, melyben egy speciális vízfelület tükröződésében megkettőződik a zsinagóga térhatása és benne – a reális és a szimbolikus térben – a létezés dezorientáltsága\, és a „morális megtisztulás” is. A video-installáció a történelemhez kötődik és a konkrét hely funkciójához. Valójában a reális\, a profán- és spirituális\, valamint a szellemi tér határvonalait feszegeti\, amivel önreflexióra készteti a nézőt.\nA szerző ezzel a monumentális művészi installációval reagálni akar a kortárs képzőművészet kulturális különbözőségeire\, kialakítván ehhez egy szimbolikus meditációs környezetet. Mind ezzel végső soron arra ösztönöz\, hogy elgondolkodjunk a közép-európai társadalmak jelenlegi interetnikus – és kulturális kapcsolatain. \nSuhoža József (1978) a szobrászati és térmédiai szakágazatban a szlovákiai vizuális művészek fiatalabb nemzedékéhez tartozik. Tanulmányait a Besztercebányai Képzőművészeti Egyetemen (2003)JurajSapara szobrászati és alkalmazott média műtermében végezte\, ahol 2010 –ben doktoranduszi tanulmányait is befejezte. Alkotásaiban a médium installációkra épít\, különös hangsúllyal a site-specific művészetre és az akciókba való átfedésre. Szellemi vonatkozásban a művésznek a létezés teréhez fűződő viszonyulásait feszegeti\, annak rituális\, mitológiai és archetipális\, kollektív emlékezetének mibenlétét is kutatva.\nSite-specific alkotásait a forma a szellem és a hely olyan eszenciális megjelenítéseinek tekinthetjük\, melyek ezek átélésének jelenkori válságáról is beszélnek. \nKurátor ifj. Szaszák György \nForrás: http://bielanoc.sk/ \nLátványterv: \nSuchoža József: Personal Moses\n 
URL:https://amikassa.sk/esemeny/suchoza-jozsef-personal-moses/
LOCATION:Zvonárska Synagóga\, Zvonárska Synagóga\, Kassa\, 04001\, Szlovákia
CATEGORIES:Fesztiválok,Kiállítások
ATTACH;FMTTYPE=image/jpeg:https://amikassa.sk/wp-content/uploads/2014/09/feher-ejszaka-01.jpg
ORGANIZER;CN="Biela Noc - Feh%C3%A9r %C3%A9jszaka":MAILTO:bielanoc@gmail.com
END:VEVENT
BEGIN:VEVENT
DTSTART;TZID=Europe/Helsinki:20141004T190000
DTEND;TZID=Europe/Helsinki:20141005T020000
DTSTAMP:20260426T062815
CREATED:20140922T213210Z
LAST-MODIFIED:20140922T213210Z
UID:1428-1412449200-1412474400@amikassa.sk
SUMMARY:Pribék Gábor: Hol volt\, hol nem volt...
DESCRIPTION:Pribék Gábor fellép a Biela Noc – Fehér éjszaka rendezvényen\, ahol egy 360 fokos úgynevezett környezeti animációt fog létrehozni. Elvont népmeséket láthatunk 3D vizuális eljárással. A szerző szeretné hogy újra átéljük a már majdnem elfeledett népmeséket\, univerzális történettel. \n  \n  \nKassai Fehér Éjszaka – Biela Noc \nKassa városa az éjszaka folyamán interaktív térré válik és hagyományos ciklusa néhány órára megszűnik létezni.\nA zenei és fényhatások installációi az éjszakai városba új életet lehelnek és az éjszaka fehérré válik.\nA kulturális és nyilvános terek megnyílnak a látogatók előtt és nem mindennapi élményben részesítik őket. \nForrás: http://bielanoc.sk/
URL:https://amikassa.sk/esemeny/gabor-pribek-hol-volt-hol-nem-volt/
LOCATION:Kaszárnya Kultúrpark – Kasárne/Kulturpark\, Kukučínova 81/2\, Kassa\, 04001\, Szlovákia
CATEGORIES:Fesztiválok,Kiállítások
ATTACH;FMTTYPE=image/jpeg:https://amikassa.sk/wp-content/uploads/2014/09/feher-ejszaka-01.jpg
ORGANIZER;CN="Biela Noc - Feh%C3%A9r %C3%A9jszaka":MAILTO:bielanoc@gmail.com
END:VEVENT
END:VCALENDAR