BEGIN:VCALENDAR
VERSION:2.0
PRODID:-//Amikassa - ECPv6.15.13.1//NONSGML v1.0//EN
CALSCALE:GREGORIAN
METHOD:PUBLISH
X-WR-CALNAME:Amikassa
X-ORIGINAL-URL:https://amikassa.sk
X-WR-CALDESC:Események Amikassa
REFRESH-INTERVAL;VALUE=DURATION:PT1H
X-Robots-Tag:noindex
X-PUBLISHED-TTL:PT1H
BEGIN:VTIMEZONE
TZID:Europe/Helsinki
BEGIN:DAYLIGHT
TZOFFSETFROM:+0200
TZOFFSETTO:+0300
TZNAME:EEST
DTSTART:20130331T010000
END:DAYLIGHT
BEGIN:STANDARD
TZOFFSETFROM:+0300
TZOFFSETTO:+0200
TZNAME:EET
DTSTART:20131027T010000
END:STANDARD
BEGIN:DAYLIGHT
TZOFFSETFROM:+0200
TZOFFSETTO:+0300
TZNAME:EEST
DTSTART:20140330T010000
END:DAYLIGHT
BEGIN:STANDARD
TZOFFSETFROM:+0300
TZOFFSETTO:+0200
TZNAME:EET
DTSTART:20141026T010000
END:STANDARD
BEGIN:DAYLIGHT
TZOFFSETFROM:+0200
TZOFFSETTO:+0300
TZNAME:EEST
DTSTART:20150329T010000
END:DAYLIGHT
BEGIN:STANDARD
TZOFFSETFROM:+0300
TZOFFSETTO:+0200
TZNAME:EET
DTSTART:20151025T010000
END:STANDARD
BEGIN:DAYLIGHT
TZOFFSETFROM:+0200
TZOFFSETTO:+0300
TZNAME:EEST
DTSTART:20160327T010000
END:DAYLIGHT
BEGIN:STANDARD
TZOFFSETFROM:+0300
TZOFFSETTO:+0200
TZNAME:EET
DTSTART:20161030T010000
END:STANDARD
END:VTIMEZONE
BEGIN:VEVENT
DTSTART;TZID=Europe/Helsinki:20151126T170000
DTEND;TZID=Europe/Helsinki:20151126T184500
DTSTAMP:20260426T023004
CREATED:20151103T105512Z
LAST-MODIFIED:20151103T105512Z
UID:5702-1448557200-1448563500@amikassa.sk
SUMMARY:MaNDa FilmKlub: Keserű igazság
DESCRIPTION:Keserű igazság\nmagyar\, 1956\, r: Várkonyi Zoltán\, f: Kövesi Endre\, Nádasy László\, Várkonyi Zoltán\, o: Hegyi Barnabás\, sz: Bessenyei Ferenc\, Gábor Miklós\, Ruttkai Éva \, mb\, 90 perc \nEgy építőipari igazgató presztízsokokból\, a látszatsiker érdekében kitart egy hibás építkezés mellett\, ami tragédiával végződik. Ez volt az első igazi\, őszinte leleplező film\, amely már nem lakkozta a valóságot\, hanem keményen bírálta a szocialista építés visszásságait\, és az értelmiséget. Ebből a radikális filmből a cenzúra nem tudott mit kivágatni\, és átszerkeszteni\, ezért harminc évig kellett dobozban maradnia.\nmagyar\, 1956\, r: Várkonyi Zoltán\, f: Kövesi Endre\, Nádasy László\, Várkonyi Zoltán\, o: Hegyi Barnabás\, sz: Bessenyei Ferenc\, Gábor Miklós\, Ruttkai Éva \, mb\, 90 perc \nEgy építőipari igazgató presztízsokokból\, a látszatsiker érdekében kitart egy hibás építkezés mellett\, ami tragédiával végződik. Ez volt az első igazi\, őszinte leleplező film\, amely már nem lakkozta a valóságot\, hanem keményen bírálta a szocialista építés visszásságait\, és az értelmiséget. Ebből a radikális filmből a cenzúra nem tudott mit kivágatni\, és átszerkeszteni\, ezért harminc évig kellett dobozban maradnia. \n\nforrás: filmkultura.hu
URL:https://amikassa.sk/esemeny/manda-filmklub-keseru-igazsag/
LOCATION:Rovás Polgári Társulás (Kmeťova 34)\, Kmeťova 34\, Kassa\, 04001\, Szlovákia
CATEGORIES:Film
ATTACH;FMTTYPE=:
ORGANIZER;CN="Rov%C3%A1s Polg%C3%A1ri T%C3%A1rsul%C3%A1s":MAILTO:rovas@rovas.sk
END:VEVENT
BEGIN:VEVENT
DTSTART;TZID=Europe/Helsinki:20150414T080000
DTEND;TZID=Europe/Helsinki:20150414T100000
DTSTAMP:20260426T023004
CREATED:20150326T144016Z
LAST-MODIFIED:20150326T144016Z
UID:4482-1428998400-1429005600@amikassa.sk
SUMMARY:MaNDA Filmklub: Mennyei seregek
DESCRIPTION:MaNDA Filmklub az ipariban. Írókról moziban. Mennyei seregek (Zrínyi Miklósról\, r. Kardos Ferenc\, 1983\, 82 perc.
URL:https://amikassa.sk/esemeny/manda-filmklub-mennyei-seregek/
LOCATION:Szakkay József Szakközépiskola\, Grešákova 1\, Kassa-Košice\, 04001\, Szlovákia
CATEGORIES:Film
ATTACH;FMTTYPE=image/jpeg:https://amikassa.sk/wp-content/uploads/2015/03/ipari-manda-1.jpg
ORGANIZER;CN="Rov%C3%A1s Polg%C3%A1ri T%C3%A1rsul%C3%A1s":MAILTO:rovas@rovas.sk
END:VEVENT
BEGIN:VEVENT
DTSTART;TZID=Europe/Helsinki:20150317T180000
DTEND;TZID=Europe/Helsinki:20150317T200000
DTSTAMP:20260426T023004
CREATED:20150220T211154Z
LAST-MODIFIED:20150220T211154Z
UID:4082-1426615200-1426622400@amikassa.sk
SUMMARY:Dokumentum film: Szpartakiád
DESCRIPTION:Amit Csehszlovákiában szerettünk – és amit nem.  \nTéma: szpartakiád.  \nMeghívott vendég: T. Kovács Péter\, testnevelés tanár.  \nKözben filmvetítés: dokumentum filmek a szpartakiádokról.
URL:https://amikassa.sk/esemeny/dokumentum-film-szpartakiad/
LOCATION:Rovás Polgári Társulás (Kmeťova 34)\, Kmeťova 34\, Kassa\, 04001\, Szlovákia
CATEGORIES:Előadások és könyvbemutatók,Film,Összejövetelek és találkozók
ATTACH;FMTTYPE=image/jpeg:https://amikassa.sk/wp-content/uploads/2015/02/Spartakiada_85-1.jpg
ORGANIZER;CN="Rov%C3%A1s Polg%C3%A1ri T%C3%A1rsul%C3%A1s":MAILTO:rovas@rovas.sk
END:VEVENT
BEGIN:VEVENT
DTSTART;TZID=Europe/Helsinki:20150217T180000
DTEND;TZID=Europe/Helsinki:20150217T200000
DTSTAMP:20260426T023004
CREATED:20150201T105159Z
LAST-MODIFIED:20150201T105159Z
UID:3973-1424196000-1424203200@amikassa.sk
SUMMARY:A katonaság Csehszlovákiában
DESCRIPTION:Amit Csehszlovákiában szerettünk – és amit nem. Téma a katonaság. \nMeghívott vendég Lach János volt katonatiszt\, aki Irakban is szolgált. \nKözben filmvetítés: Černí baroni (Fekete bárók\, r. Zdeněk Sirový\, 1992\, 99′)\,
URL:https://amikassa.sk/esemeny/a-katonasag-csehszlovakiaban/
LOCATION:Rovás Polgári Társulás (Kmeťova 34)\, Kmeťova 34\, Kassa\, 04001\, Szlovákia
CATEGORIES:Film,Összejövetelek és találkozók
ORGANIZER;CN="Rov%C3%A1s Polg%C3%A1ri T%C3%A1rsul%C3%A1s":MAILTO:rovas@rovas.sk
END:VEVENT
BEGIN:VEVENT
DTSTART;TZID=Europe/Helsinki:20150108T190000
DTEND;TZID=Europe/Helsinki:20150108T203000
DTSTAMP:20260426T023004
CREATED:20150103T182855Z
LAST-MODIFIED:20150103T182855Z
UID:3667-1420743600-1420749000@amikassa.sk
SUMMARY:Az én kis falum
DESCRIPTION:Amit Csehszlovákiában szerettünk – és amit nem. Új programsorozat. Az én kis falum (Věsničko má středisková)\, 1985\, r. Jiří Menzel\, 98 perc. \n 
URL:https://amikassa.sk/esemeny/az-en-kis-falum/
LOCATION:Rovás Polgári Társulás (Kmeťova 34)\, Kmeťova 34\, Kassa\, 04001\, Szlovákia
CATEGORIES:Film
ATTACH;FMTTYPE=image/jpeg:https://amikassa.sk/wp-content/uploads/2015/01/filmvetittes-1.jpg
ORGANIZER;CN="Rov%C3%A1s Polg%C3%A1ri T%C3%A1rsul%C3%A1s":MAILTO:rovas@rovas.sk
END:VEVENT
BEGIN:VEVENT
DTSTART;TZID=Europe/Helsinki:20141125T180000
DTEND;TZID=Europe/Helsinki:20141125T190000
DTSTAMP:20260426T023004
CREATED:20141105T154416Z
LAST-MODIFIED:20141105T154416Z
UID:2504-1416938400-1416942000@amikassa.sk
SUMMARY:MaNDA Filmklub: A tolonc
DESCRIPTION:Válogatás a Magyar Nemzeti Digitális Archívum és Filmintézet filmjeiből. A tolonc (rendezte Kertész Mihály\, 1914) – némafilm. Főszereplők: Berky Lili\, Várkonyi Mihály\, Jászai Mari.\n\n 
URL:https://amikassa.sk/esemeny/manda-filmklub-a-tolonc/
LOCATION:Rovás Polgári Társulás (Kmeťova 34)\, Kmeťova 34\, Kassa\, 04001\, Szlovákia
CATEGORIES:Előadások és könyvbemutatók,Összejövetelek és találkozók
ATTACH;FMTTYPE=image/jpeg:https://amikassa.sk/wp-content/uploads/2014/11/film-1.jpg
END:VEVENT
END:VCALENDAR