BEGIN:VCALENDAR
VERSION:2.0
PRODID:-//Amikassa - ECPv6.15.13.1//NONSGML v1.0//EN
CALSCALE:GREGORIAN
METHOD:PUBLISH
X-WR-CALNAME:Amikassa
X-ORIGINAL-URL:https://amikassa.sk
X-WR-CALDESC:Események Amikassa
REFRESH-INTERVAL;VALUE=DURATION:PT1H
X-Robots-Tag:noindex
X-PUBLISHED-TTL:PT1H
BEGIN:VTIMEZONE
TZID:Europe/Helsinki
BEGIN:DAYLIGHT
TZOFFSETFROM:+0200
TZOFFSETTO:+0300
TZNAME:EEST
DTSTART:20150329T010000
END:DAYLIGHT
BEGIN:STANDARD
TZOFFSETFROM:+0300
TZOFFSETTO:+0200
TZNAME:EET
DTSTART:20151025T010000
END:STANDARD
BEGIN:DAYLIGHT
TZOFFSETFROM:+0200
TZOFFSETTO:+0300
TZNAME:EEST
DTSTART:20160327T010000
END:DAYLIGHT
BEGIN:STANDARD
TZOFFSETFROM:+0300
TZOFFSETTO:+0200
TZNAME:EET
DTSTART:20161030T010000
END:STANDARD
BEGIN:DAYLIGHT
TZOFFSETFROM:+0200
TZOFFSETTO:+0300
TZNAME:EEST
DTSTART:20170326T010000
END:DAYLIGHT
BEGIN:STANDARD
TZOFFSETFROM:+0300
TZOFFSETTO:+0200
TZNAME:EET
DTSTART:20171029T010000
END:STANDARD
END:VTIMEZONE
BEGIN:VEVENT
DTSTART;TZID=Europe/Helsinki:20160221T183000
DTEND;TZID=Europe/Helsinki:20160221T200000
DTSTAMP:20260426T063427
CREATED:20160219T120847Z
LAST-MODIFIED:20160219T120847Z
UID:6359-1456079400-1456084800@amikassa.sk
SUMMARY:Nédó Olga hegedűművész koncertje
DESCRIPTION:Ezúttal tisztelettel meghívjuk Önt és kedves családját 2016. február 21-én a GES kultúrális központba (Kassa-óváros\, Nám. Laca Novomeského 13) 18.30-kor Nédó Olga budapesti Hegedűművész koncertjére.
URL:https://amikassa.sk/esemeny/nedo-olga-hegedumuvesz-koncertje/
LOCATION:GES klub\, Nám. L. Novomeského 1443/13\, Kassa-Košice\, 04001\, Szlovákia
CATEGORIES:Koncertek és zene
ATTACH;FMTTYPE=:
ORGANIZER;CN="MKDSZ | Magyar Kereszt%C3%A9nydemokrata Sz%C3%B6vets%C3%A9g":MAILTO:mkdsz.mkda@gmail.com
END:VEVENT
BEGIN:VEVENT
DTSTART;TZID=Europe/Helsinki:20160131T150000
DTEND;TZID=Europe/Helsinki:20160131T170000
DTSTAMP:20260426T063427
CREATED:20160119T235007Z
LAST-MODIFIED:20160119T235007Z
UID:6207-1454252400-1454259600@amikassa.sk
SUMMARY:Mága Zoltán hegedűművész koncertje
DESCRIPTION:2016. január 31-én\, (vasárnap) 15.00 órakor Mága Zoltán hegedűművész koncertjére kerül sora Hotel Centrum Darwin-termében Kassán. \nAzon művészek egyike\, aki küldetéstudatát előtérben tartva képviseli a magyar kulturális tradíciókat\, és erősíti a magyarságról kialakult pozitív képet. Zenei missziója\, hogy a magyar nemzetet és a magyar kultúrát megszerettesse a világgal\, célja\, hogy koncertjeivel nyitottabbá tegye hallgatóságát más népek\, más kultúrák iránt. Ezáltal számos rajongót szerzett nemcsak magának\, hanem a hagyományos cigány- és klasszikus zenének is. Zenéjét utánozhatatlanul különleges személyisége teszi egyedivé\, varázslatossá. \nforrás: www.magazoltan.com \nA koncertre szimbolikus 1 euró értékben támogatói jegy vásárolható. \n 
URL:https://amikassa.sk/esemeny/maga-zoltan-hegedumuvesz-koncertje/
LOCATION:Hotel Centrum Darwin\, Južná trieda 2A\, 040 01 Košice\, Slovensko\, Kassa\, 04001
CATEGORIES:Koncertek és zene
ATTACH;FMTTYPE=:
END:VEVENT
END:VCALENDAR