BEGIN:VCALENDAR
VERSION:2.0
PRODID:-//Amikassa - ECPv6.15.13.1//NONSGML v1.0//EN
CALSCALE:GREGORIAN
METHOD:PUBLISH
X-WR-CALNAME:Amikassa
X-ORIGINAL-URL:https://amikassa.sk
X-WR-CALDESC:Események Amikassa
REFRESH-INTERVAL;VALUE=DURATION:PT1H
X-Robots-Tag:noindex
X-PUBLISHED-TTL:PT1H
BEGIN:VTIMEZONE
TZID:Europe/Helsinki
BEGIN:DAYLIGHT
TZOFFSETFROM:+0200
TZOFFSETTO:+0300
TZNAME:EEST
DTSTART:20130331T010000
END:DAYLIGHT
BEGIN:STANDARD
TZOFFSETFROM:+0300
TZOFFSETTO:+0200
TZNAME:EET
DTSTART:20131027T010000
END:STANDARD
BEGIN:DAYLIGHT
TZOFFSETFROM:+0200
TZOFFSETTO:+0300
TZNAME:EEST
DTSTART:20140330T010000
END:DAYLIGHT
BEGIN:STANDARD
TZOFFSETFROM:+0300
TZOFFSETTO:+0200
TZNAME:EET
DTSTART:20141026T010000
END:STANDARD
BEGIN:DAYLIGHT
TZOFFSETFROM:+0200
TZOFFSETTO:+0300
TZNAME:EEST
DTSTART:20150329T010000
END:DAYLIGHT
BEGIN:STANDARD
TZOFFSETFROM:+0300
TZOFFSETTO:+0200
TZNAME:EET
DTSTART:20151025T010000
END:STANDARD
BEGIN:DAYLIGHT
TZOFFSETFROM:+0200
TZOFFSETTO:+0300
TZNAME:EEST
DTSTART:20160327T010000
END:DAYLIGHT
BEGIN:STANDARD
TZOFFSETFROM:+0300
TZOFFSETTO:+0200
TZNAME:EET
DTSTART:20161030T010000
END:STANDARD
END:VTIMEZONE
BEGIN:VEVENT
DTSTART;TZID=Europe/Helsinki:20150314T150000
DTEND;TZID=Europe/Helsinki:20150314T153000
DTSTAMP:20260426T034618
CREATED:20150309T212325Z
LAST-MODIFIED:20150309T212325Z
UID:4353-1426345200-1426347000@amikassa.sk
SUMMARY:„ Az én március 15-ém…” c. rajzpályázat - Magyar Forradalom és Szabadságharc évfordulója
DESCRIPTION:A Csemadok Kassai Városi Választmánya és a Henszlmann Imre Történelmi Társaság szeretettel meghívja \nMagyar Forradalom és Szabadságharc évfordulójára szervezett ünnepségekre \n  \nKiállítás megnyitása a „ Az én március 15-ém…” c. rajzpályázat \nműveiből. Megnyitja: Dr. Kriza Ákos\, Miskolc Megyei Jogú város polgármestere. Helyszín: a Thália Színház konferenciaterme. \n 
URL:https://amikassa.sk/esemeny/az-en-marcius-15-em-c-rajzpalyazat-magyar-forradalom-es-szabadsagharc-evforduloja/
LOCATION:Thália Színház\, Mojmírova 3\, Kassa-Košice\, 04001\, Szlovákia
CATEGORIES:Kiállítások,Összejövetelek és találkozók,Ünnepélyek és megnyitók
ORGANIZER;CN="A Csemadok Kassai V%C3%A1rosi V%C3%A1lasztm%C3%A1nya %C3%A9s a Henszlmann Imre T%C3%B6rt%C3%A9nelmi T%C3%A1rsas%C3%A1g":MAILTO:kolar@kassacsemadok.eu
END:VEVENT
BEGIN:VEVENT
DTSTART;TZID=Europe/Helsinki:20141016T180000
DTEND;TZID=Europe/Helsinki:20141016T190000
DTSTAMP:20260426T034618
CREATED:20141001T121020Z
LAST-MODIFIED:20141001T121020Z
UID:1636-1413482400-1413486000@amikassa.sk
SUMMARY:Barcsay mester és tanítványai
DESCRIPTION:Kiállítás-megnyitó. Barcsay Jenő az egyik legismertebb magyar festő\, grafikus\, tanár. Nonfiguratív alkotásai mellett kiemelkedőek voltak anatómiai tanulmányai\, könyveit – többek között a Művészeti anatómia címűt – számos nyelvre lefordították. Művészgenerációk tanultak tőle\, személyisége és szemlélete hatással volt a kortárs művésztársadalomra. Tanítványai közül kiemelkedik Balogh László\, Deim Pál és Konok Tamás\, akiket a szakmai hasonlóságokon kívül szoros barátság is összekötött a mesterrel. \nA kiállítás fővédnöke Csáky Pál EU parlamenti képviselő\, író.
URL:https://amikassa.sk/esemeny/barcsay-mester-es-tanitvanyai/
LOCATION:Rovás Polgári Társulás (Kmeťova 34)\, Kmeťova 34\, Kassa\, 04001\, Szlovákia
CATEGORIES:Kiállítások,Ünnepélyek és megnyitók
ORGANIZER;CN="Rov%C3%A1s Polg%C3%A1ri T%C3%A1rsul%C3%A1s":MAILTO:rovas@rovas.sk
END:VEVENT
END:VCALENDAR