BEGIN:VCALENDAR
VERSION:2.0
PRODID:-//Amikassa - ECPv6.15.13.1//NONSGML v1.0//EN
CALSCALE:GREGORIAN
METHOD:PUBLISH
X-ORIGINAL-URL:https://amikassa.sk
X-WR-CALDESC:Események Amikassa
REFRESH-INTERVAL;VALUE=DURATION:PT1H
X-Robots-Tag:noindex
X-PUBLISHED-TTL:PT1H
BEGIN:VTIMEZONE
TZID:Europe/Helsinki
BEGIN:DAYLIGHT
TZOFFSETFROM:+0200
TZOFFSETTO:+0300
TZNAME:EEST
DTSTART:20140330T010000
END:DAYLIGHT
BEGIN:STANDARD
TZOFFSETFROM:+0300
TZOFFSETTO:+0200
TZNAME:EET
DTSTART:20141026T010000
END:STANDARD
BEGIN:DAYLIGHT
TZOFFSETFROM:+0200
TZOFFSETTO:+0300
TZNAME:EEST
DTSTART:20150329T010000
END:DAYLIGHT
BEGIN:STANDARD
TZOFFSETFROM:+0300
TZOFFSETTO:+0200
TZNAME:EET
DTSTART:20151025T010000
END:STANDARD
BEGIN:DAYLIGHT
TZOFFSETFROM:+0200
TZOFFSETTO:+0300
TZNAME:EEST
DTSTART:20160327T010000
END:DAYLIGHT
BEGIN:STANDARD
TZOFFSETFROM:+0300
TZOFFSETTO:+0200
TZNAME:EET
DTSTART:20161030T010000
END:STANDARD
END:VTIMEZONE
BEGIN:VEVENT
DTSTART;TZID=Europe/Helsinki:20151211T140000
DTEND;TZID=Europe/Helsinki:20151211T190000
DTSTAMP:20260426T011232
CREATED:20151208T143114Z
LAST-MODIFIED:20151208T143114Z
UID:6047-1449842400-1449860400@amikassa.sk
SUMMARY:Magyar kézműves és termelői piac
DESCRIPTION:Advent a Palotán \nAz Artpalace Kft. és a MNKH Közép-európai Kereskedelemfejlesztési Hálózat kassai irodája szervezésében \n2015. december 10-12-ig kerül megrendezésre a \nMAGYAR KÉZMŰVES ÉS TERMELŐI PIAC \nA helyszínen az érdeklődő vásárlóközönség magyar őstermelők és kézművesek minőségi termékkínálatával találkozhat\, a határ mindkét oldaláról.
URL:https://amikassa.sk/esemeny/magyar-kezmuves-es-termeloi-piac-2/
LOCATION:Csáky-Dessewffy palotaudvar\, Hlavná 72\, Košice\, Kassa -  Košice\, 04001\, Szlovákia
CATEGORIES:Fesztiválok,Összejövetelek és találkozók,Ünnepélyek és megnyitók
ATTACH;FMTTYPE=:
END:VEVENT
BEGIN:VEVENT
DTSTART;VALUE=DATE:20150619
DTEND;VALUE=DATE:20150621
DTSTAMP:20260426T011232
CREATED:20150615T141538Z
LAST-MODIFIED:20150615T141538Z
UID:5132-1434672000-1434844799@amikassa.sk
SUMMARY:Kassai Magyar Kézműves és Termelői Piac
DESCRIPTION:Második alkalommal kerül megrendezésre a Kassai Magyar Kézműves és Termelői Piac\, melyre június 19-én (péntek) és június 20-án (szombat) kerül sor a Csáky-Dessewffy palota udvarán (Fő utca 72.). \nA helyszínen az érdeklődő vásárlóközönség magyar őstermelők és kézművesek minőségi termékkínálatával találkozhat\, a határ mindkét oldaláról. \nA rendezvény kísérőprogramjában fellépnek a kassai Márai Sándor Gimnázium és Alapiskola diákjai\, a nagyidai Ilosvai Selymes Péter Néptáncegyüttes tagjai és a hidasnémeti Abaúji Hagyományőrzők.
URL:https://amikassa.sk/esemeny/kassai-magyar-kezmuves-es-termeloi-piac/
LOCATION:Csáky-Dessewffy palotaudvar\, Hlavná 72\, Košice\, Kassa -  Košice\, 04001\, Szlovákia
CATEGORIES:Fesztiválok,Kiállítások,Összejövetelek és találkozók,Workshopok és táborok
END:VEVENT
BEGIN:VEVENT
DTSTART;TZID=Europe/Helsinki:20150515T060000
DTEND;TZID=Europe/Helsinki:20150516T000000
DTSTAMP:20260426T011232
CREATED:20150509T211305Z
LAST-MODIFIED:20150509T211305Z
UID:5011-1431669600-1431734400@amikassa.sk
SUMMARY:Kassai kézműves és termelői piac
DESCRIPTION:A helyszínen az érdeklődő vásárlóközönség magyar őstermelők és kézművesek minőségi termékkínálattal találkozhat\, a határ mindkét oldaláról. A rendezvény kísérőprogramjában fellépnek a kassai Márai Sándor Gimnázium és Alapiskola diákjai\, a nagyidai Ilosvai Selymes Péter Néptáncegyüttes tagjai és a hidasnémeti Abaúj Hagyományőrzők.  \nTovábbi információ: \n+421 908 808 572  \nartplalace.s.r.o@gmail.com \nA rendezvénnyel kapcsolatos információ elolvasható az alábbi linken:  http://amikassa.sk/az-izek-es-a-tradicio-koncertje-kassan/ \n  \n 
URL:https://amikassa.sk/esemeny/kassai-kezmuves-es-termeloi-piac/
LOCATION:Csáky-Dessewffy palotaudvar\, Hlavná 72\, Košice\, Kassa -  Košice\, 04001\, Szlovákia
CATEGORIES:Előadások és könyvbemutatók,Fesztiválok,Kiállítások,Koncertek és zene,Összejövetelek és találkozók
ATTACH;FMTTYPE=image/jpeg:https://amikassa.sk/wp-content/uploads/2015/05/kezmuves_piac.jpg
END:VEVENT
END:VCALENDAR