BEGIN:VCALENDAR
VERSION:2.0
PRODID:-//Amikassa - ECPv6.15.13.1//NONSGML v1.0//EN
CALSCALE:GREGORIAN
METHOD:PUBLISH
X-WR-CALNAME:Amikassa
X-ORIGINAL-URL:https://amikassa.sk
X-WR-CALDESC:Események Amikassa
REFRESH-INTERVAL;VALUE=DURATION:PT1H
X-Robots-Tag:noindex
X-PUBLISHED-TTL:PT1H
BEGIN:VTIMEZONE
TZID:Europe/Helsinki
BEGIN:DAYLIGHT
TZOFFSETFROM:+0200
TZOFFSETTO:+0300
TZNAME:EEST
DTSTART:20140330T010000
END:DAYLIGHT
BEGIN:STANDARD
TZOFFSETFROM:+0300
TZOFFSETTO:+0200
TZNAME:EET
DTSTART:20141026T010000
END:STANDARD
BEGIN:DAYLIGHT
TZOFFSETFROM:+0200
TZOFFSETTO:+0300
TZNAME:EEST
DTSTART:20150329T010000
END:DAYLIGHT
BEGIN:STANDARD
TZOFFSETFROM:+0300
TZOFFSETTO:+0200
TZNAME:EET
DTSTART:20151025T010000
END:STANDARD
BEGIN:DAYLIGHT
TZOFFSETFROM:+0200
TZOFFSETTO:+0300
TZNAME:EEST
DTSTART:20160327T010000
END:DAYLIGHT
BEGIN:STANDARD
TZOFFSETFROM:+0300
TZOFFSETTO:+0200
TZNAME:EET
DTSTART:20161030T010000
END:STANDARD
END:VTIMEZONE
BEGIN:VEVENT
DTSTART;TZID=Europe/Helsinki:20150428T190000
DTEND;TZID=Europe/Helsinki:20150428T210000
DTSTAMP:20260426T023006
CREATED:20150420T165223Z
LAST-MODIFIED:20150420T165223Z
UID:4796-1430247600-1430254800@amikassa.sk
SUMMARY:Kikelet - Diákklubok harca
DESCRIPTION:Szeretettel meghívunk Titeket a Diákhálózat által meghirdetett Műveltségi vetélkedőre\, melyre április 28-án (kedden) 19:00 órai kezdettel kerül sor a Világ kávéi kávézóban (Timon. u. 3.\, Kassa). \nJelentkezni lehet üzenetben a Kikelet Kassa- Ifjúsági Közösségnek\, az eseményben\, vagy a helyszínen. \nSzabályok:\n– A vetélkedőben három tagú csapatok vehetnek részt.\n– A selejtezők győztes csapatai továbbjutnak a döntőbe\, ami aGombaszögi Nyári Táborban kerül megrendezésre.\n– Amennyiben a helyi fordulók győztes csapata nem szeretne vagy nem tud részt venni a döntőn\, automatikusan a rangsorban következő csapat kerül a helyükre.\n– A selejtezőkben győztes csapat köteles döntőbeli részvételi szándékát kinyilatkoztatni\, amin utólagosan nem lehet változtatni. \nMinden témakörben háromféle kérdéstípus várható:\n– normál kérdés\, amire a válasz egy szó/egy név\n– tippelős kérdés\, ahol egy számot/évszámot kell majd megtippelni\n– tesztkérdés\, ahol négy lehetőség közül kell majd egyet kiválasztani \nA kérdések az alábbi témakörökből lesznek (témakörönként 6 kérdéssel):\n– KIKELET\n– Kassa\n– Matematika és informatika\n– Fizika és kémia\n– Aktuális és politika\n– Magyar nyelv és irodalom\n– Sport\n– Zene és színház\n– Történelem és művészet\n– Filmek és sorozatok\n– Földrajz \nFacebook esemény: https://www.facebook.com/events/1641247026086677/
URL:https://amikassa.sk/esemeny/kikelet-diakklubok-harca/
LOCATION:A Világ Kávéi kávézó\, Timon. u. 3.\, Kassa -  Košice\, 04001\, Szlovákia
CATEGORIES:Összejövetelek és találkozók
ATTACH;FMTTYPE=image/jpeg:https://amikassa.sk/wp-content/uploads/2015/04/fejlec-1.jpg
ORGANIZER;CN="Kikelet Kassai Ifj%C3%BAs%C3%A1gi K%C3%B6z%C3%B6ss%C3%A9g":MAILTO:kikelet.kassa@gmail.com
END:VEVENT
BEGIN:VEVENT
DTSTART;TZID=Europe/Helsinki:20150217T210000
DTEND;TZID=Europe/Helsinki:20150217T210000
DTSTAMP:20260426T023006
CREATED:20150208T140628Z
LAST-MODIFIED:20150208T140628Z
UID:4004-1424206800-1424206800@amikassa.sk
SUMMARY:Szemeszternyitó RETRO magyar buli
DESCRIPTION:Mindenkit várunk a szemeszternyitó retro magyar bulinkba!!Töltődj fel a vizsgaidőszak után és gyere el bulizni!!!A legjobb retro jelmezeket ajándékokkal díjazzuk! 🙂 \nHelyszín: BOBA barZenél: Dj Zse-LeeKapunyitás: 21:00 \nFacebook esemény: https://www.facebook.com/events/600298363448218/
URL:https://amikassa.sk/esemeny/szemeszternyito-retro-magyar-buli/
LOCATION:Boba Bar\, Zlata Mišinská - Boba Bar\, Kassa\, 04001\, Szlovákia
CATEGORIES:Koncertek és zene,Összejövetelek és találkozók
ATTACH;FMTTYPE=image/png:https://amikassa.sk/wp-content/uploads/2015/02/1476187_942548482429965_8073478611128632666_n-1.png
ORGANIZER;CN="Kikelet Kassai Ifj%C3%BAs%C3%A1gi K%C3%B6z%C3%B6ss%C3%A9g":MAILTO:kikelet.kassa@gmail.com
END:VEVENT
BEGIN:VEVENT
DTSTART;TZID=Europe/Helsinki:20150214T190000
DTEND;TZID=Europe/Helsinki:20150214T190000
DTSTAMP:20260426T023006
CREATED:20150113T201016Z
LAST-MODIFIED:20150113T201016Z
UID:3835-1423940400-1423940400@amikassa.sk
SUMMARY:MAGYAR BÁL
DESCRIPTION:A CSEMADOK KASSAI VÁROSI VÁLASZTMÁNYA\, a KASSAI MAGYAR IPARI és a KIKELET KASSAI IFJÚSÁGI KÖZÖSSÉG szeretettel meghívják a HAGYOMÁNYOS KASSAI MAGYAR BÁLRA\, amelyre2015. február 14-én\, 19:00 órai kezdettel kerül sor Kassán\,a Művészetek Házában (Moyzes u.66.).Sztárvendég: SZINETÁR DÓRAZene: CREDIT (Lelesz)\nBALOGH PÉTER és zenekara\nDJ ZSELINSZKY \nHázigazdák: Gál Tamás és Kiss Szilvia \nMAGYAR BOROK\, TOMBOLA \nInformáció\, helyfoglalás\, jegyelővétel:\nSzemélyesen: Csemadok\, Kovács u. 38\, Kassa\nTelefonon: +421 55 6221313\n+421 905 347 258\n+421 908 630 084 \nJegyárak: \n35€ \,40€ \,45€—-vacsorás jegyek\,(földszint ill. 1.emelet)\nAz ár tartalmazza: az aperitifet\, előételt\, vacsorát\, süteményt\, ásványvizet\, 1 üveg bort 1 pár részére\, éjféltől svédasztalos vacsorát\, programot. \n20€—–diszkó jegyek (2.emelet). Az ár tartalmazza az előételt\, a vacsorát és a programot. \nFacebook esemény: https://www.facebook.com/events/879470792085067/?ref=22
URL:https://amikassa.sk/esemeny/magyar-bal/
LOCATION:Művészetek Háza\, Štátna filharmónia Košice\, Moyzesova\, Kassa\, 04001\, Szlovákia
CATEGORIES:Koncertek és zene,Összejövetelek és találkozók
ATTACH;FMTTYPE=image/jpeg:https://amikassa.sk/wp-content/uploads/2015/01/web-1.jpg
END:VEVENT
END:VCALENDAR