BEGIN:VCALENDAR
VERSION:2.0
PRODID:-//Amikassa - ECPv6.15.13.1//NONSGML v1.0//EN
CALSCALE:GREGORIAN
METHOD:PUBLISH
X-ORIGINAL-URL:https://amikassa.sk
X-WR-CALDESC:Események Amikassa
REFRESH-INTERVAL;VALUE=DURATION:PT1H
X-Robots-Tag:noindex
X-PUBLISHED-TTL:PT1H
BEGIN:VTIMEZONE
TZID:Europe/Helsinki
BEGIN:DAYLIGHT
TZOFFSETFROM:+0200
TZOFFSETTO:+0300
TZNAME:EEST
DTSTART:20130331T010000
END:DAYLIGHT
BEGIN:STANDARD
TZOFFSETFROM:+0300
TZOFFSETTO:+0200
TZNAME:EET
DTSTART:20131027T010000
END:STANDARD
BEGIN:DAYLIGHT
TZOFFSETFROM:+0200
TZOFFSETTO:+0300
TZNAME:EEST
DTSTART:20140330T010000
END:DAYLIGHT
BEGIN:STANDARD
TZOFFSETFROM:+0300
TZOFFSETTO:+0200
TZNAME:EET
DTSTART:20141026T010000
END:STANDARD
BEGIN:DAYLIGHT
TZOFFSETFROM:+0200
TZOFFSETTO:+0300
TZNAME:EEST
DTSTART:20150329T010000
END:DAYLIGHT
BEGIN:STANDARD
TZOFFSETFROM:+0300
TZOFFSETTO:+0200
TZNAME:EET
DTSTART:20151025T010000
END:STANDARD
BEGIN:DAYLIGHT
TZOFFSETFROM:+0200
TZOFFSETTO:+0300
TZNAME:EEST
DTSTART:20160327T010000
END:DAYLIGHT
BEGIN:STANDARD
TZOFFSETFROM:+0300
TZOFFSETTO:+0200
TZNAME:EET
DTSTART:20161030T010000
END:STANDARD
BEGIN:DAYLIGHT
TZOFFSETFROM:+0200
TZOFFSETTO:+0300
TZNAME:EEST
DTSTART:20170326T010000
END:DAYLIGHT
BEGIN:STANDARD
TZOFFSETFROM:+0300
TZOFFSETTO:+0200
TZNAME:EET
DTSTART:20171029T010000
END:STANDARD
BEGIN:DAYLIGHT
TZOFFSETFROM:+0200
TZOFFSETTO:+0300
TZNAME:EEST
DTSTART:20180325T010000
END:DAYLIGHT
BEGIN:STANDARD
TZOFFSETFROM:+0300
TZOFFSETTO:+0200
TZNAME:EET
DTSTART:20181028T010000
END:STANDARD
END:VTIMEZONE
BEGIN:VEVENT
DTSTART;TZID=Europe/Helsinki:20170214T213000
DTEND;TZID=Europe/Helsinki:20170214T213000
DTSTAMP:20260426T050348
CREATED:20170207T201719Z
LAST-MODIFIED:20170207T214205Z
UID:17974-1487107800-1487107800@amikassa.sk
SUMMARY:Szemeszternyitó magyar buli
DESCRIPTION:Facebook esemény: https://www.facebook.com/events/227638620978402/ \nA nyári szemeszter első hetében mindenkit szeretettel várunk egy fantasztikus szemeszternyitó magyar buliba\, február 14-én (kedden)\, a Viral clubba (Viral Club Košice)\, mely egy exklúziv klub Kassán (a TipToppal szemben – Námestie L. Novomeského 7\, Košice). \nIdőpont: 2017. február 14. kedd – 21:30\nZenél: Zselinszky aka. dj Zse-Lee\nBelépő: 3€
URL:https://amikassa.sk/esemeny/szemeszternyito-magyar-buli-4/
LOCATION:Viral Club\, Námestie L. Novomeského 7\, Kassa\, Košický kraj\, 04001\, Szlovákia
CATEGORIES:Koncertek és zene
ATTACH;FMTTYPE=image/png:https://amikassa.sk/wp-content/uploads/2017/02/16463168_1554644371220370_6544087587973787275_o.png
ORGANIZER;CN="Kikelet Kassai Ifj%C3%BAs%C3%A1gi K%C3%B6z%C3%B6ss%C3%A9g":MAILTO:kikelet.kassa@gmail.com
END:VEVENT
BEGIN:VEVENT
DTSTART;TZID=Europe/Helsinki:20160330T210000
DTEND;TZID=Europe/Helsinki:20160330T210000
DTSTAMP:20260426T050348
CREATED:20160321T182310Z
LAST-MODIFIED:20160321T182310Z
UID:6560-1459371600-1459371600@amikassa.sk
SUMMARY:MAGYAR BULI
DESCRIPTION:Mindenkit várunk bulizni a Black & White MAGYAR BULI-ba. Ha be szeretnél olvadni a sötétségbe\, vagy kitűnni az UV fényben\, nálunk a helyed! \nHelyszín: BOBA BAR\nZenél: DJ PETER V\nDresscode: fekete és fehér\, magában vagy vegyesen. \nFacebook esemény: https://www.facebook.com/events/208348932854670/
URL:https://amikassa.sk/esemeny/magyar-buli/
LOCATION:Boba Bar\, Zlata Mišinská - Boba Bar\, Kassa\, 04001\, Szlovákia
CATEGORIES:Koncertek és zene
ATTACH;FMTTYPE=:
ORGANIZER;CN="Kikelet Kassai Ifj%C3%BAs%C3%A1gi K%C3%B6z%C3%B6ss%C3%A9g":MAILTO:kikelet.kassa@gmail.com
END:VEVENT
BEGIN:VEVENT
DTSTART;TZID=Europe/Helsinki:20151103T213000
DTEND;TZID=Europe/Helsinki:20151103T213000
DTSTAMP:20260426T050348
CREATED:20151027T230919Z
LAST-MODIFIED:20151027T230919Z
UID:5568-1446586200-1446586200@amikassa.sk
SUMMARY:HIP-HOP Magyar buli
DESCRIPTION:Szeretettel várunk mindenkit a következő magyar buliba\, melyet a HIP-HOP és R’n’B zenei stílusok jegyében zajlanak majd.A hip-hop egy gyűjtőfogalom\, egy életstílus\, ami magában foglal rengeteg dolgot. Beletartozik a táncon kívül a zene\, öltözködés\, szleng. A break a 1970-es években New York utcáin kialakult sajátos táncstílus ami nevét jellegzetes és látványos mozgássorairól kapta. A breaktáncos (hip-hop táncos) egyedül vagy csoportosan táncol\, látványos figuráival és pózaival kápráztatja el nézőit. Egyes hip-hop táncosok akár a fejük tetejére állva is képesek pörögni a földön\, hatalmas tapsvihar közepette.Időpont: 2015. november 3. | kedd | 21:30Helyszín: BOBA BARZenél DJ Zse-Lee (House Gangsters) és Deniel B.Belépő: 3€ \nPontban éjfélkor – 24:00 – fellép a Kerless tánccsoport. \nHa bármilyen kérdesetek\, kérésetek van a bulival\, zenével kapcsolatban\, bátran keressetek fel minket 🙂 \nwww.kikelet.sk \nwww.kassaiholmi.sk \n  \nFacebook esemény: https://www.facebook.com/events/997413440301940/
URL:https://amikassa.sk/esemeny/hip-hop-magyar-buli/
LOCATION:Boba Bar\, Zlata Mišinská - Boba Bar\, Kassa\, 04001\, Szlovákia
CATEGORIES:Koncertek és zene
ATTACH;FMTTYPE=:
ORGANIZER;CN="Kikelet Kassai Ifj%C3%BAs%C3%A1gi K%C3%B6z%C3%B6ss%C3%A9g":MAILTO:kikelet.kassa@gmail.com
END:VEVENT
BEGIN:VEVENT
DTSTART;TZID=Europe/Helsinki:20151007T210000
DTEND;TZID=Europe/Helsinki:20151007T210000
DTSTAMP:20260426T050348
CREATED:20151002T193653Z
LAST-MODIFIED:20151002T193653Z
UID:5209-1444251600-1444251600@amikassa.sk
SUMMARY:Szemeszternyitó magyar buli
DESCRIPTION:Kezdjük meg a téli szemesztert egy fergeteges magyar bulival október 7-én a Boba bárba este 21:00 órától. \nZenél DJ Zselinszky és Deniel B. \nBelépő mindössze 3 euró !\nFace & Dress Controll ! \nFacebook esemény: https://www.facebook.com/events/471870949687273/ \n\nforrás: www.kikelet.sk
URL:https://amikassa.sk/esemeny/szemeszternyito-magyar-buli-2/
LOCATION:Boba Bar\, Zlata Mišinská - Boba Bar\, Kassa\, 04001\, Szlovákia
CATEGORIES:Koncertek és zene,Összejövetelek és találkozók
ATTACH;FMTTYPE=image/png:https://amikassa.sk/wp-content/uploads/2015/10/20151007_magyarbuli.png
ORGANIZER;CN="Kikelet Kassai Ifj%C3%BAs%C3%A1gi K%C3%B6z%C3%B6ss%C3%A9g":MAILTO:kikelet.kassa@gmail.com
END:VEVENT
BEGIN:VEVENT
DTSTART;TZID=Europe/Helsinki:20150513T210000
DTEND;TZID=Europe/Helsinki:20150513T210000
DTSTAMP:20260426T050348
CREATED:20150503T205042Z
LAST-MODIFIED:20150503T205042Z
UID:4966-1431550800-1431550800@amikassa.sk
SUMMARY:Szemeszterzáró magyar buli
DESCRIPTION:Belegondoltál már milyen lehet az élete a The Great Gatsby c. film szereplőinek? Gyere el a következő magyar buliba\, hogy Te is megtapasztalhasd saját bőrödön a huszas évek hangulatát. Ne felejts el a kornak megfelelő öltözéket választani\, és add át magad a Gatsby-életérzésnek. \n\nZenél DJ Zselinszky és Deniel B. \nFace & Dress Controll ! \n  \nwww.kikelet.sk \nwwww.fb.com/KikeletKassa \nwww.instagram.com/kikeletkassa \nFacebook esemény: https://www.facebook.com/events/1566691746916750/ \n 
URL:https://amikassa.sk/esemeny/szemeszterzaro-magyar-buli/
LOCATION:Boba Bar\, Zlata Mišinská - Boba Bar\, Kassa\, 04001\, Szlovákia
CATEGORIES:Koncertek és zene
ATTACH;FMTTYPE=image/png:https://amikassa.sk/wp-content/uploads/2015/05/11218830_988852564466223_727323959003501507_n.png
ORGANIZER;CN="Kikelet Kassai Ifj%C3%BAs%C3%A1gi K%C3%B6z%C3%B6ss%C3%A9g":MAILTO:kikelet.kassa@gmail.com
END:VEVENT
BEGIN:VEVENT
DTSTART;TZID=Europe/Helsinki:20141203T210000
DTEND;TZID=Europe/Helsinki:20141204T030000
DTSTAMP:20260426T050348
CREATED:20141126T204932Z
LAST-MODIFIED:20141126T204932Z
UID:2838-1417640400-1417662000@amikassa.sk
SUMMARY:Mikulás napi magyar buli
DESCRIPTION:Mindenkit várunk a vizsgaidőszak előtt 1 kis bulizásra a szemeszterzáró Mikulás napi magyar bulinkba!!! 🙂 \nHangolódj a télre és az ünnepekre!!! Gyere téli hangulatot idéző ruhában ( lehet ez egy téli motívumot ábrázoló felső\, vagy bármi más\, ezt már a te fantáziádra bízzuk) és meglátod a Mikulás számodra is tartogat valamit. \nRed & White party \nDj Peter \n 
URL:https://amikassa.sk/esemeny/mikulas-napi-magyar-buli/
LOCATION:T-klub\, Urbánkova 1559/2\, Kassa-Košice\, 04001\, Szlovákia
CATEGORIES:Koncertek és zene
ATTACH;FMTTYPE=image/jpeg:https://amikassa.sk/wp-content/uploads/2014/11/magyar-buli-1.jpg
ORGANIZER;CN="Kikelet Kassai Ifj%C3%BAs%C3%A1gi K%C3%B6z%C3%B6ss%C3%A9g":MAILTO:kikelet.kassa@gmail.com
END:VEVENT
BEGIN:VEVENT
DTSTART;TZID=Europe/Helsinki:20141001T210000
DTEND;TZID=Europe/Helsinki:20141001T210000
DTSTAMP:20260426T050348
CREATED:20140914T092106Z
LAST-MODIFIED:20140914T092106Z
UID:1140-1412197200-1412197200@amikassa.sk
SUMMARY:SZEMESZTERNYITÓ MAGYAR BULI
DESCRIPTION:Kezdjük meg a téli szemesztert 1 fergeteges magyar bulival!!!Helyszín: BOBA bar\nKapunyitás: 21:00\nZenél: Dj Zse-Lee\nBeugró: 3€ \nForrás: www.kikelet.sk \n 
URL:https://amikassa.sk/esemeny/szemeszternyito-magyar-buli/
LOCATION:Boba Bar\, Zlata Mišinská - Boba Bar\, Kassa\, 04001\, Szlovákia
CATEGORIES:Koncertek és zene
ATTACH;FMTTYPE=image/jpeg:https://amikassa.sk/wp-content/uploads/2014/09/10582956_852635788087902_2662807461535763232_o.jpg
ORGANIZER;CN="Kikelet Kassai Ifj%C3%BAs%C3%A1gi K%C3%B6z%C3%B6ss%C3%A9g":MAILTO:kikelet.kassa@gmail.com
END:VEVENT
END:VCALENDAR