BEGIN:VCALENDAR
VERSION:2.0
PRODID:-//Amikassa - ECPv6.15.13.1//NONSGML v1.0//EN
CALSCALE:GREGORIAN
METHOD:PUBLISH
X-WR-CALNAME:Amikassa
X-ORIGINAL-URL:https://amikassa.sk
X-WR-CALDESC:Események Amikassa
REFRESH-INTERVAL;VALUE=DURATION:PT1H
X-Robots-Tag:noindex
X-PUBLISHED-TTL:PT1H
BEGIN:VTIMEZONE
TZID:Europe/Helsinki
BEGIN:DAYLIGHT
TZOFFSETFROM:+0200
TZOFFSETTO:+0300
TZNAME:EEST
DTSTART:20160327T010000
END:DAYLIGHT
BEGIN:STANDARD
TZOFFSETFROM:+0300
TZOFFSETTO:+0200
TZNAME:EET
DTSTART:20161030T010000
END:STANDARD
BEGIN:DAYLIGHT
TZOFFSETFROM:+0200
TZOFFSETTO:+0300
TZNAME:EEST
DTSTART:20170326T010000
END:DAYLIGHT
BEGIN:STANDARD
TZOFFSETFROM:+0300
TZOFFSETTO:+0200
TZNAME:EET
DTSTART:20171029T010000
END:STANDARD
BEGIN:DAYLIGHT
TZOFFSETFROM:+0200
TZOFFSETTO:+0300
TZNAME:EEST
DTSTART:20180325T010000
END:DAYLIGHT
BEGIN:STANDARD
TZOFFSETFROM:+0300
TZOFFSETTO:+0200
TZNAME:EET
DTSTART:20181028T010000
END:STANDARD
BEGIN:DAYLIGHT
TZOFFSETFROM:+0200
TZOFFSETTO:+0300
TZNAME:EEST
DTSTART:20190331T010000
END:DAYLIGHT
BEGIN:STANDARD
TZOFFSETFROM:+0300
TZOFFSETTO:+0200
TZNAME:EET
DTSTART:20191027T010000
END:STANDARD
END:VTIMEZONE
BEGIN:VEVENT
DTSTART;TZID=Europe/Helsinki:20180324T190000
DTEND;TZID=Europe/Helsinki:20180324T213000
DTSTAMP:20260426T063429
CREATED:20180305T130412Z
LAST-MODIFIED:20180305T130412Z
UID:20576-1521918000-1521927000@amikassa.sk
SUMMARY:Ray Cooney: Páratlan páros
DESCRIPTION:Lehet-e unalmasabb fickó annál\, mint akit John Smithnek hívnak? Átlagos név\, átlagos kinézet\, átlagos élet. Munka és magánélet\, magánélet és munka. Londonban éli hétköznapi\, pontosan megtervezett\, bevett szokások szerint működő életét. Napközben taxisofőr\, éjjel pedig hűséges és szerető férj kis feleségének ölelő karjaiban. Vagy napközben hűséges és szerető férj kis felesége szoknyája mellett és éjjel pedig taxisofőr. Semmi váratlan esemény\, semmi meglepetés. Még csak az kellene. És egyszer csak ez a langymeleg\, kellemes unalom veszélybe kerül. Kiderül ugyanis\, hogy kettő van belőle. John Smithből\, lakcímből\, kis feleségből\, mintaéletből. John Smith pedig nem tűrheti el\, hogy ez a gondosan felépített kispolgári kártyavár egyik pillanatról a másikra összedőljön. Bajban pedig mi az egyetlen megoldás? Tagadni! Tagadni\, tagadni\, tagadni minden áron… A tanulság pedig talán annyi\, hogy aki hazudni kezd\, ne lepődjön meg azon\, hogy a legvalószínűtlenebb\, legblődebb baromságot is elhiszi majd valaki. A publikum…
URL:https://amikassa.sk/esemeny/ray-cooney-paratlan-paros/
LOCATION:Thália Színház\, Mojmírova 3\, Kassa-Košice\, 04001\, Szlovákia
CATEGORIES:Színház
END:VEVENT
BEGIN:VEVENT
DTSTART;TZID=Europe/Helsinki:20170209T190000
DTEND;TZID=Europe/Helsinki:20170209T210000
DTSTAMP:20260426T063429
CREATED:20170128T221348Z
LAST-MODIFIED:20171103T211619Z
UID:17670-1486666800-1486674000@amikassa.sk
SUMMARY:Ray Cooney: Páratlan páros
DESCRIPTION:Lehet-e unalmasabb fickó annál\, mint akit John Smithnek hívnak? Átlagos név\, átlagos kinézet\, átlagos élet. Munka és magánélet\, magánélet és munka. Londonban éli hétköznapi\, pontosan megtervezett\, bevett szokások szerint működő életét. Napközben taxisofőr\, éjjel pedig hűséges és szerető férj kis feleségének ölelő karjaiban. Vagy napközben hűséges és szerető férj kis felesége szoknyája mellett és éjjel pedig taxisofőr. Semmi váratlan esemény\, semmi meglepetés. Még csak az kellene. És egyszer csak ez a langymeleg\, kellemes unalom veszélybe kerül. Kiderül ugyanis\, hogy kettő van belőle. John Smithből\, lakcímből\, kis feleségből\, mintaéletből. John Smith pedig nem tűrheti el\, hogy ez a gondosan felépített kispolgári kártyavár egyik pillanatról a másikra összedőljön. Bajban pedig mi az egyetlen megoldás? Tagadni! Tagadni\, tagadni\, tagadni minden áron… A tanulság pedig talán annyi\, hogy aki hazudni kezd\, ne lepődjön meg azon\, hogy a legvalószínűtlenebb\, legblődebb baromságot is elhiszi majd valaki. A publikum…
URL:https://amikassa.sk/esemeny/ray-cooney-paratlan-paros-bercsenyi-berlet/
LOCATION:Thália Színház\, Mojmírova 3\, Kassa-Košice\, 04001\, Szlovákia
CATEGORIES:Színház
ORGANIZER;CN="Th%C3%A1lia Sz%C3%ADnh%C3%A1z":MAILTO:office@thaliaszinhaz.sk
END:VEVENT
BEGIN:VEVENT
DTSTART;TZID=Europe/Helsinki:20170203T190000
DTEND;TZID=Europe/Helsinki:20170203T210000
DTSTAMP:20260426T063429
CREATED:20170128T221157Z
LAST-MODIFIED:20170128T221157Z
UID:17668-1486148400-1486155600@amikassa.sk
SUMMARY:Ray Cooney: Páratlan páros (Mikszáth bérlet)
DESCRIPTION:Lehet-e unalmasabb fickó annál\, mint akit John Smithnek hívnak? Átlagos név\, átlagos kinézet\, átlagos élet. Munka és magánélet\, magánélet és munka. Londonban éli hétköznapi\, pontosan megtervezett\, bevett szokások szerint működő életét. Napközben taxisofőr\, éjjel pedig hűséges és szerető férj kis feleségének ölelő karjaiban. Vagy napközben hűséges és szerető férj kis felesége szoknyája mellett és éjjel pedig taxisofőr. Semmi váratlan esemény\, semmi meglepetés. Még csak az kellene. És egyszer csak ez a langymeleg\, kellemes unalom veszélybe kerül. Kiderül ugyanis\, hogy kettő van belőle. John Smithből\, lakcímből\, kis feleségből\, mintaéletből. John Smith pedig nem tűrheti el\, hogy ez a gondosan felépített kispolgári kártyavár egyik pillanatról a másikra összedőljön. Bajban pedig mi az egyetlen megoldás? Tagadni! Tagadni\, tagadni\, tagadni minden áron… A tanulság pedig talán annyi\, hogy aki hazudni kezd\, ne lepődjön meg azon\, hogy a legvalószínűtlenebb\, legblődebb baromságot is elhiszi majd valaki. A publikum…
URL:https://amikassa.sk/esemeny/ray-cooney-paratlan-paros-mikszath-berlet/
LOCATION:Thália Színház\, Mojmírova 3\, Kassa-Košice\, 04001\, Szlovákia
CATEGORIES:Színház
ORGANIZER;CN="Th%C3%A1lia Sz%C3%ADnh%C3%A1z":MAILTO:office@thaliaszinhaz.sk
END:VEVENT
END:VCALENDAR