BEGIN:VCALENDAR
VERSION:2.0
PRODID:-//Amikassa - ECPv6.15.13.1//NONSGML v1.0//EN
CALSCALE:GREGORIAN
METHOD:PUBLISH
X-ORIGINAL-URL:https://amikassa.sk
X-WR-CALDESC:Események Amikassa
REFRESH-INTERVAL;VALUE=DURATION:PT1H
X-Robots-Tag:noindex
X-PUBLISHED-TTL:PT1H
BEGIN:VTIMEZONE
TZID:Europe/Budapest
BEGIN:DAYLIGHT
TZOFFSETFROM:+0100
TZOFFSETTO:+0200
TZNAME:CEST
DTSTART:20240331T010000
END:DAYLIGHT
BEGIN:STANDARD
TZOFFSETFROM:+0200
TZOFFSETTO:+0100
TZNAME:CET
DTSTART:20241027T010000
END:STANDARD
BEGIN:DAYLIGHT
TZOFFSETFROM:+0100
TZOFFSETTO:+0200
TZNAME:CEST
DTSTART:20250330T010000
END:DAYLIGHT
BEGIN:STANDARD
TZOFFSETFROM:+0200
TZOFFSETTO:+0100
TZNAME:CET
DTSTART:20251026T010000
END:STANDARD
BEGIN:DAYLIGHT
TZOFFSETFROM:+0100
TZOFFSETTO:+0200
TZNAME:CEST
DTSTART:20260329T010000
END:DAYLIGHT
BEGIN:STANDARD
TZOFFSETFROM:+0200
TZOFFSETTO:+0100
TZNAME:CET
DTSTART:20261025T010000
END:STANDARD
END:VTIMEZONE
BEGIN:VEVENT
DTSTART;TZID=Europe/Budapest:20251015T190000
DTEND;TZID=Europe/Budapest:20251015T203000
DTSTAMP:20260426T022127
CREATED:20251020T081115Z
LAST-MODIFIED:20251020T081115Z
UID:40049-1760554800-1760560200@amikassa.sk
SUMMARY:Thália Színház: Box Humana (Mi van veled\, Sándor?)
DESCRIPTION:Box Humana (Mi van veled\, Sándor?)\nIdőpont: 15.10.2025 19:00 – 20:30 \nHelyszín: Thália Színház – Nyilvános főpróba \nFurcsa alakok egy csoportja bukkan föl a színpadon. Kik ők? Kutatók\, tudósok\, művészek\, polgárok\, aktivisták\, időutazók\, kommentelők\, álmodozók\, akárkik? Sándort keresik. Beszélgetni akarnak vele. Csak beszélgetni? Márai Sándor év van\, a nagy kassai polgárt ünnepeljük. Akit nagyon tisztelünk\, azzal megtörténhet\, hogy saját emlékművévé válik. Legendák ködébe vész. Emlegetjük\, de nem olvassuk. Idézzük\, de kontextus nélküli kiragadott mondatokban létezik. Hivatkozunk rá\, de mit tudunk róla? Fontos nekünk\, de az ájult tisztelet szintjén. Belengi a pátosz\, megfojtja a rajongás\, láthatatlanná teszi őt az áhítat. Az ünnepelt zseni nagy kívülálló volt és nagy magányos. Mániákusan gondolkodott\, küzdött\, vágyakozott. Tisztán látott\, érzékeny volt\, tévedett. Összefüggéseket keresett\, gyönyörű mondatokba menekült\, önző volt. Sebezhető volt és fölényesen erős és okos. Életművében összeért kozmosz és bolhapiac\, világtörténelem és hajhullás\, alkotói felelősség és az élet apró szépségei\, melyeket séta közben vesz észre az ember. \nMárai Sándor Mágia című kötetének nyolc novellája alapján Forgács Miklós és Czajlik József álmodott meg egy olyan világot\, amely még a hétpróbás Márai-szakértőket és rajongókat is meglepheti. Izgalmas történet bontakozik ki a Mester és teremtményei között. A hasbeszélő és nyolc éve elhagyott bábjai beszélgetnek.\nAzt követjük\, ahogy ők egymás között tisztázzák a múltat\, felelevenítik azokat az élményeket\, amelyek alakították őket\, a saját identitásukat is vizsgálják\, eljutnak a végső kérdésig: Ki vagyok én? A szereplők művészek is\, de a hétköznapi életben is megmerítkeznek. A tengert akarják látni\, arról beszélgetnek\, hogyan is ismerkedtek meg\, mit is gondolnak az otthonukról\, miképpen élik meg a nagy csalódást és vágynak magányra\, milyen egészen meglepő elhatározásra jutnak\, ha tényleg szeretetre vágynak. És persze megelevenedik a cirkusz\, az orfeum varázslatos világa is. Csupaszín\, váltás\, meglepetés\, ötlet ez a különös világ. Áradó\, mágikus mondatok és megkapó\, finom vagy éppen groteszkbe hajló humor. Márai minden történetében arról mesél: Nagyon törékenyek vagyunk mi emberek. \nSzereplők: \n\n\n\nARTÚR (A MESTER)\nGál Tamás (Jászai Mari-díjas) m.v.\n\n\nDEBÓRA\nKövesdi Szabó Mária m.v\n\n\nEDGÁR\nOllé Erik\n\n\nEVELIN\nNagy Kornélia\n\n\nBARNABÁS\nMadarász Máté\n\n\n\n  \nRendező: Czajlik József \nBemutató: 2025. október 16. \nTovábbi időpontok\n\n\n\n28.10.2025 10:00 – 11:30 · Thália Színház – Csendes L. bérlet\n29.10.2025 10:00 – 11:30 · Thália Színház – Kovács J. bérlet\n30.10.2025 19:00 – 20:30 · Thália Színház – Gyurkovics M. bérlet\n07.11.2025 19:00 – 20:30 · Thália Színház – László G. bérlet\n11.11.2025 10:00 – 11:30 · Thália Színház\n11.11.2025 19:00 – 20:30 · Thália Színház – V. Szabó R. bérlet\n12.11.2025 19:00 – 20:30 · Thália Színház – Pólos Á. bérlet
URL:https://amikassa.sk/esemeny/thalia-szinhaz-box-humana-mi-van-veled-sandor/
LOCATION:Thália Színház\, Mojmírova 3\, Kassa-Košice\, 04001\, Szlovákia
CATEGORIES:Színház
ATTACH;FMTTYPE=image/jpeg:https://amikassa.sk/wp-content/uploads/2025/10/RN_Thalia_boxhumana_highres-92-scaled.jpg
ORGANIZER;CN="Th%C3%A1lia Sz%C3%ADnh%C3%A1z":MAILTO:office@thaliaszinhaz.sk
END:VEVENT
BEGIN:VEVENT
DTSTART;TZID=Europe/Budapest:20251016T190000
DTEND;TZID=Europe/Budapest:20251016T203000
DTSTAMP:20260426T022127
CREATED:20251020T082110Z
LAST-MODIFIED:20251020T082110Z
UID:40051-1760641200-1760646600@amikassa.sk
SUMMARY:Thália Színház: Box Humana (Mi van veled\, Sándor?)
DESCRIPTION:Box Humana (Mi van veled\, Sándor?)\nIdőpont: 16.10.2025 19:00 – 20:30 \nHelyszín: Thália Színház – Kolár P. bérlet \nFurcsa alakok egy csoportja bukkan föl a színpadon. Kik ők? Kutatók\, tudósok\, művészek\, polgárok\, aktivisták\, időutazók\, kommentelők\, álmodozók\, akárkik? Sándort keresik. Beszélgetni akarnak vele. Csak beszélgetni? Márai Sándor év van\, a nagy kassai polgárt ünnepeljük. Akit nagyon tisztelünk\, azzal megtörténhet\, hogy saját emlékművévé válik. Legendák ködébe vész. Emlegetjük\, de nem olvassuk. Idézzük\, de kontextus nélküli kiragadott mondatokban létezik. Hivatkozunk rá\, de mit tudunk róla? Fontos nekünk\, de az ájult tisztelet szintjén. Belengi a pátosz\, megfojtja a rajongás\, láthatatlanná teszi őt az áhítat. Az ünnepelt zseni nagy kívülálló volt és nagy magányos. Mániákusan gondolkodott\, küzdött\, vágyakozott. Tisztán látott\, érzékeny volt\, tévedett. Összefüggéseket keresett\, gyönyörű mondatokba menekült\, önző volt. Sebezhető volt és fölényesen erős és okos. Életművében összeért kozmosz és bolhapiac\, világtörténelem és hajhullás\, alkotói felelősség és az élet apró szépségei\, melyeket séta közben vesz észre az ember. \nMárai Sándor Mágia című kötetének nyolc novellája alapján Forgács Miklós és Czajlik József álmodott meg egy olyan világot\, amely még a hétpróbás Márai-szakértőket és rajongókat is meglepheti. Izgalmas történet bontakozik ki a Mester és teremtményei között. A hasbeszélő és nyolc éve elhagyott bábjai beszélgetnek.\nAzt követjük\, ahogy ők egymás között tisztázzák a múltat\, felelevenítik azokat az élményeket\, amelyek alakították őket\, a saját identitásukat is vizsgálják\, eljutnak a végső kérdésig: Ki vagyok én? A szereplők művészek is\, de a hétköznapi életben is megmerítkeznek. A tengert akarják látni\, arról beszélgetnek\, hogyan is ismerkedtek meg\, mit is gondolnak az otthonukról\, miképpen élik meg a nagy csalódást és vágynak magányra\, milyen egészen meglepő elhatározásra jutnak\, ha tényleg szeretetre vágynak. És persze megelevenedik a cirkusz\, az orfeum varázslatos világa is. Csupaszín\, váltás\, meglepetés\, ötlet ez a különös világ. Áradó\, mágikus mondatok és megkapó\, finom vagy éppen groteszkbe hajló humor. Márai minden történetében arról mesél: Nagyon törékenyek vagyunk mi emberek. \nSzereplők: \n\n\n\nARTÚR (A MESTER)\nGál Tamás (Jászai Mari-díjas) m.v.\n\n\nDEBÓRA\nKövesdi Szabó Mária m.v\n\n\nEDGÁR\nOllé Erik\n\n\nEVELIN\nNagy Kornélia\n\n\nBARNABÁS\nMadarász Máté\n\n\n\n  \nRendező: Czajlik József \nBemutató: 2025. október 16. \nTovábbi időpontok\n\n\n\n28.10.2025 10:00 – 11:30 · Thália Színház – Csendes L. bérlet\n29.10.2025 10:00 – 11:30 · Thália Színház – Kovács J. bérlet\n30.10.2025 19:00 – 20:30 · Thália Színház – Gyurkovics M. bérlet\n07.11.2025 19:00 – 20:30 · Thália Színház – László G. bérlet\n11.11.2025 10:00 – 11:30 · Thália Színház\n11.11.2025 19:00 – 20:30 · Thália Színház – V. Szabó R. bérlet\n12.11.2025 19:00 – 20:30 · Thália Színház – Pólos Á. bérlet\n\n 
URL:https://amikassa.sk/esemeny/thalia-szinhaz-box-humana-mi-van-veled-sandor-2/
LOCATION:Thália Színház\, Mojmírova 3\, Kassa-Košice\, 04001\, Szlovákia
CATEGORIES:Színház
ATTACH;FMTTYPE=image/jpeg:https://amikassa.sk/wp-content/uploads/2025/10/RN_Thalia_boxhumana_highres-92-scaled.jpg
ORGANIZER;CN="Th%C3%A1lia Sz%C3%ADnh%C3%A1z":MAILTO:office@thaliaszinhaz.sk
END:VEVENT
BEGIN:VEVENT
DTSTART;TZID=Europe/Budapest:20251019T150000
DTEND;TZID=Europe/Budapest:20251019T163000
DTSTAMP:20260426T022127
CREATED:20251020T082534Z
LAST-MODIFIED:20251020T082534Z
UID:40053-1760886000-1760891400@amikassa.sk
SUMMARY:Thália Színház: Box Humana (Mi van veled\, Sándor?)
DESCRIPTION:Box Humana (Mi van veled\, Sándor?)\nIdőpont: 19.10.2025 15:00 – 16:30 \nHelyszín: Thália Színház – Lengyel F. bérlet \nFurcsa alakok egy csoportja bukkan föl a színpadon. Kik ők? Kutatók\, tudósok\, művészek\, polgárok\, aktivisták\, időutazók\, kommentelők\, álmodozók\, akárkik? Sándort keresik. Beszélgetni akarnak vele. Csak beszélgetni? Márai Sándor év van\, a nagy kassai polgárt ünnepeljük. Akit nagyon tisztelünk\, azzal megtörténhet\, hogy saját emlékművévé válik. Legendák ködébe vész. Emlegetjük\, de nem olvassuk. Idézzük\, de kontextus nélküli kiragadott mondatokban létezik. Hivatkozunk rá\, de mit tudunk róla? Fontos nekünk\, de az ájult tisztelet szintjén. Belengi a pátosz\, megfojtja a rajongás\, láthatatlanná teszi őt az áhítat. Az ünnepelt zseni nagy kívülálló volt és nagy magányos. Mániákusan gondolkodott\, küzdött\, vágyakozott. Tisztán látott\, érzékeny volt\, tévedett. Összefüggéseket keresett\, gyönyörű mondatokba menekült\, önző volt. Sebezhető volt és fölényesen erős és okos. Életművében összeért kozmosz és bolhapiac\, világtörténelem és hajhullás\, alkotói felelősség és az élet apró szépségei\, melyeket séta közben vesz észre az ember. \nMárai Sándor Mágia című kötetének nyolc novellája alapján Forgács Miklós és Czajlik József álmodott meg egy olyan világot\, amely még a hétpróbás Márai-szakértőket és rajongókat is meglepheti. Izgalmas történet bontakozik ki a Mester és teremtményei között. A hasbeszélő és nyolc éve elhagyott bábjai beszélgetnek.\nAzt követjük\, ahogy ők egymás között tisztázzák a múltat\, felelevenítik azokat az élményeket\, amelyek alakították őket\, a saját identitásukat is vizsgálják\, eljutnak a végső kérdésig: Ki vagyok én? A szereplők művészek is\, de a hétköznapi életben is megmerítkeznek. A tengert akarják látni\, arról beszélgetnek\, hogyan is ismerkedtek meg\, mit is gondolnak az otthonukról\, miképpen élik meg a nagy csalódást és vágynak magányra\, milyen egészen meglepő elhatározásra jutnak\, ha tényleg szeretetre vágynak. És persze megelevenedik a cirkusz\, az orfeum varázslatos világa is. Csupaszín\, váltás\, meglepetés\, ötlet ez a különös világ. Áradó\, mágikus mondatok és megkapó\, finom vagy éppen groteszkbe hajló humor. Márai minden történetében arról mesél: Nagyon törékenyek vagyunk mi emberek. \nSzereplők: \n\n\n\nARTÚR (A MESTER)\nGál Tamás (Jászai Mari-díjas) m.v.\n\n\nDEBÓRA\nKövesdi Szabó Mária m.v\n\n\nEDGÁR\nOllé Erik\n\n\nEVELIN\nNagy Kornélia\n\n\nBARNABÁS\nMadarász Máté\n\n\n\n  \nRendező: Czajlik József \nBemutató: 2025. október 16. \n\nTovábbi időpontok\n\n28.10.2025 10:00 – 11:30 · Thália Színház – Csendes L. bérlet\n29.10.2025 10:00 – 11:30 · Thália Színház – Kovács J. bérlet\n30.10.2025 19:00 – 20:30 · Thália Színház – Gyurkovics M. bérlet\n07.11.2025 19:00 – 20:30 · Thália Színház – László G. bérlet\n11.11.2025 10:00 – 11:30 · Thália Színház\n11.11.2025 19:00 – 20:30 · Thália Színház – V. Szabó R. bérlet\n12.11.2025 19:00 – 20:30 · Thália Színház – Pólos Á. bérlet
URL:https://amikassa.sk/esemeny/thalia-szinhaz-box-humana-mi-van-veled-sandor-3/
LOCATION:Thália Színház\, Mojmírova 3\, Kassa-Košice\, 04001\, Szlovákia
CATEGORIES:Színház
ATTACH;FMTTYPE=image/jpeg:https://amikassa.sk/wp-content/uploads/2025/10/RN_Thalia_boxhumana_highres-92-scaled.jpg
ORGANIZER;CN="Th%C3%A1lia Sz%C3%ADnh%C3%A1z":MAILTO:office@thaliaszinhaz.sk
END:VEVENT
BEGIN:VEVENT
DTSTART;TZID=Europe/Budapest:20251021T190000
DTEND;TZID=Europe/Budapest:20251021T203000
DTSTAMP:20260426T022127
CREATED:20251020T115539Z
LAST-MODIFIED:20251020T115539Z
UID:40072-1761073200-1761078600@amikassa.sk
SUMMARY:Thália Színház: Csotrogányné Lepsénynél még megvolt
DESCRIPTION:Csotrogányné Lepsénynél még megvolt\nIdőpont: 21.10.2025 19:00 – 20:30 \nHelyszín: Márai stúdió \nA kabaré francia eredetű szó\, jelentése: szórakozóhely\, ahol zenés\, humoros jeleneteket adnak elő. A kabaré története Franciaországban\, 1881-ben kezdődött\, mégpedig úgy\, hogy vendéglőkben\, kocsmákban amatőr vagy hivatásos színészek és énekesek sanzonokat\, szatirikus verseket\, humoros jeleneteket paródiákat adtak elő. Ezek célpontja általában az akkori uralkodó osztály volt. Kezdetben az előadók a szövegeket rögtönözték\, csak később adtak elő előre megírt és alaposan begyakorolt számokat. A kabaré tehát Franciaországból indul hódító útjára\, hogy elterjedjen más országokban is. Hozzánk az 1. világháború előtt érkezett meg. Számos kitűnő művész foglalkozott ezzel az irányzattal. Többek közt Salamon Béla\, Kabos Gyula \, Latabár Kálmán. A háború után már egész társulatok alakultak. A hazai kabarék színvonala és funkciója enyhén eltért a külföldi kabarékétól. A kabaré több irányzat fúziójából (együtteséből) jött létre és fő feladata\, hogy humorosan\, játékosan neveljen és szórakoztasson. \nRendezte: Bocsárszky Attila\nBemutató: 2025. szeptember 11.
URL:https://amikassa.sk/esemeny/thalia-szinhaz-csotroganyne-lepsenynel-meg-megvolt/
LOCATION:Márai Stúdió\, Timonova 776/3\, Kassa-Košice\,  040 01 \, Szlovákia
CATEGORIES:Színház
ATTACH;FMTTYPE=image/jpeg:https://amikassa.sk/wp-content/uploads/2025/10/e-img-2579-5-1600-1259-0-ffffff.jpg
ORGANIZER;CN="Th%C3%A1lia Sz%C3%ADnh%C3%A1z":MAILTO:office@thaliaszinhaz.sk
END:VEVENT
BEGIN:VEVENT
DTSTART;TZID=Europe/Budapest:20251027T100000
DTEND;TZID=Europe/Budapest:20251027T110000
DTSTAMP:20260426T022127
CREATED:20251020T093641Z
LAST-MODIFIED:20251020T093641Z
UID:40070-1761559200-1761562800@amikassa.sk
SUMMARY:Thália Színház: Ágacska
DESCRIPTION:Csukás István – Darvas Ferenc: Ágacska\nIdőpont: 27.10.2025 10:00 – 11:00 \nHelyszín: Thália Színház \n\nZenés mesejáték\n\n\n\n\nVan egy hely a világon\, ahol mindig nyitva áll az ajtó. Itt lakik a festő\, aki egyben titkos varázsló is és játékos kedvű\, minden bolondozásra kapható színészekkel barátkozik. Most éppen hatalmas vihar tör ki\, megtépázza az ősöreg óriási platánfát is és az igazi mesebeli réten megjelenik egy különös\, kedves teremtés\, Ágacska\, aki nem tudja\, hogy ki ő. A legkülönfélébb lényekkel találkozik\, virággal\, lepkével\, gombával\, és annyit tud meg\, hogy ő leginkább az emberre hasonlít. Egyre kíváncsibban vándorol tovább és lélegzetelállító kalandokba bonyolódik. Belekerül például a kacsák és békák ádáz háborújába\, de az is kiderül\, hogy az egerek és a macskák harca is folyamatosan dúl\, valamint\, hogy a tűznek hatalmas ereje van és nagyon veszélyes. \nÁgacska megismerkedik a kancsal\, de nagyon jószívű Dani kacsával\, a folyton röhögő\, de mindig segítőkész Berci békával\, valamint a rendkívül bátor és foghíjas Pösze egérrel. Mindegyikük az embernek köszönheti a baját\, de mindannyiukon csak az ember tud segíteni. Le kell győzniük a félelmüket ehhez\, de a barátság erejével ez is sikerül. Ágacska éppen az emberhez igyekszik\, hiszen jól meg akarja nézni kire is hasonlít és hátha végre megtudja\, hogy kicsoda is ő\, hová tartozik\, mi is a dolga ezen a világon. A jóbarátok mindvégig kitartanak egymás mellett és a mese végére kiderül\, hogy egy kis odafigyeléssel\, szeretettel\, gondoskodással minden probléma megoldható. \nRendezte: Illés Oszkár – Pólos Árpád \nBemutató: 2023. szeptember 28. \nSzereplők: \n\n\n\nÁgacska\nDégner Lilla\n\n\nPösze egér\nNagy Kornélia\n\n\nDani kacsa\nMadarász Máté\n\n\nBerci béka\nRubóczki Márkó\n\n\nVarázsló\nIllés Oszkár
URL:https://amikassa.sk/esemeny/thalia-szinhaz-agacska/
LOCATION:Thália Színház\, Mojmírova 3\, Kassa-Košice\, 04001\, Szlovákia
CATEGORIES:Gyerekeknek,Színház
ATTACH;FMTTYPE=image/jpeg:https://amikassa.sk/wp-content/uploads/2023/10/IMG_20230928_120216-scaled.jpg
ORGANIZER;CN="Th%C3%A1lia Sz%C3%ADnh%C3%A1z":MAILTO:office@thaliaszinhaz.sk
END:VEVENT
BEGIN:VEVENT
DTSTART;TZID=Europe/Budapest:20251028T100000
DTEND;TZID=Europe/Budapest:20251028T113000
DTSTAMP:20260426T022127
CREATED:20251020T083014Z
LAST-MODIFIED:20251020T083014Z
UID:40055-1761645600-1761651000@amikassa.sk
SUMMARY:Thália Színház: Box Humana (Mi van veled\, Sándor?)
DESCRIPTION:Box Humana (Mi van veled\, Sándor?)\nIdőpont: 28.10.2025 10:00 – 11:30 \nHelyszín: Thália Színház – Csendes L. bérlet \nFurcsa alakok egy csoportja bukkan föl a színpadon. Kik ők? Kutatók\, tudósok\, művészek\, polgárok\, aktivisták\, időutazók\, kommentelők\, álmodozók\, akárkik? Sándort keresik. Beszélgetni akarnak vele. Csak beszélgetni? Márai Sándor év van\, a nagy kassai polgárt ünnepeljük. Akit nagyon tisztelünk\, azzal megtörténhet\, hogy saját emlékművévé válik. Legendák ködébe vész. Emlegetjük\, de nem olvassuk. Idézzük\, de kontextus nélküli kiragadott mondatokban létezik. Hivatkozunk rá\, de mit tudunk róla? Fontos nekünk\, de az ájult tisztelet szintjén. Belengi a pátosz\, megfojtja a rajongás\, láthatatlanná teszi őt az áhítat. Az ünnepelt zseni nagy kívülálló volt és nagy magányos. Mániákusan gondolkodott\, küzdött\, vágyakozott. Tisztán látott\, érzékeny volt\, tévedett. Összefüggéseket keresett\, gyönyörű mondatokba menekült\, önző volt. Sebezhető volt és fölényesen erős és okos. Életművében összeért kozmosz és bolhapiac\, világtörténelem és hajhullás\, alkotói felelősség és az élet apró szépségei\, melyeket séta közben vesz észre az ember. \nMárai Sándor Mágia című kötetének nyolc novellája alapján Forgács Miklós és Czajlik József álmodott meg egy olyan világot\, amely még a hétpróbás Márai-szakértőket és rajongókat is meglepheti. Izgalmas történet bontakozik ki a Mester és teremtményei között. A hasbeszélő és nyolc éve elhagyott bábjai beszélgetnek.\nAzt követjük\, ahogy ők egymás között tisztázzák a múltat\, felelevenítik azokat az élményeket\, amelyek alakították őket\, a saját identitásukat is vizsgálják\, eljutnak a végső kérdésig: Ki vagyok én? A szereplők művészek is\, de a hétköznapi életben is megmerítkeznek. A tengert akarják látni\, arról beszélgetnek\, hogyan is ismerkedtek meg\, mit is gondolnak az otthonukról\, miképpen élik meg a nagy csalódást és vágynak magányra\, milyen egészen meglepő elhatározásra jutnak\, ha tényleg szeretetre vágynak. És persze megelevenedik a cirkusz\, az orfeum varázslatos világa is. Csupaszín\, váltás\, meglepetés\, ötlet ez a különös világ. Áradó\, mágikus mondatok és megkapó\, finom vagy éppen groteszkbe hajló humor. Márai minden történetében arról mesél: Nagyon törékenyek vagyunk mi emberek. \nSzereplők: \n\n\n\nARTÚR (A MESTER)\nGál Tamás (Jászai Mari-díjas) m.v.\n\n\nDEBÓRA\nKövesdi Szabó Mária m.v\n\n\nEDGÁR\nOllé Erik\n\n\nEVELIN\nNagy Kornélia\n\n\nBARNABÁS\nMadarász Máté\n\n\n\n  \nRendező: Czajlik József \nBemutató: 2025. október 16. \nTovábbi időpontok\n\n28.10.2025 10:00 – 11:30 · Thália Színház – Csendes L. bérlet\n29.10.2025 10:00 – 11:30 · Thália Színház – Kovács J. bérlet\n30.10.2025 19:00 – 20:30 · Thália Színház – Gyurkovics M. bérlet\n07.11.2025 19:00 – 20:30 · Thália Színház – László G. bérlet\n11.11.2025 10:00 – 11:30 · Thália Színház\n11.11.2025 19:00 – 20:30 · Thália Színház – V. Szabó R. bérlet\n12.11.2025 19:00 – 20:30 · Thália Színház – Pólos Á. bérlet
URL:https://amikassa.sk/esemeny/thalia-szinhaz-box-humana-mi-van-veled-sandor-4/
LOCATION:Thália Színház\, Mojmírova 3\, Kassa-Košice\, 04001\, Szlovákia
CATEGORIES:Színház
ATTACH;FMTTYPE=image/jpeg:https://amikassa.sk/wp-content/uploads/2025/10/RN_Thalia_boxhumana_highres-92-scaled.jpg
ORGANIZER;CN="Th%C3%A1lia Sz%C3%ADnh%C3%A1z":MAILTO:office@thaliaszinhaz.sk
END:VEVENT
BEGIN:VEVENT
DTSTART;TZID=Europe/Budapest:20251029T100000
DTEND;TZID=Europe/Budapest:20251029T113000
DTSTAMP:20260426T022127
CREATED:20251020T083617Z
LAST-MODIFIED:20251020T083617Z
UID:40057-1761732000-1761737400@amikassa.sk
SUMMARY:Thália Színház: Box Humana (Mi van veled\, Sándor?)
DESCRIPTION:Box Humana (Mi van veled\, Sándor?)\nIdőpont: 29.10.2025 10:00 – 11:30 \nHelyszín: Thália Színház – Kovács J. bérlet \nFurcsa alakok egy csoportja bukkan föl a színpadon. Kik ők? Kutatók\, tudósok\, művészek\, polgárok\, aktivisták\, időutazók\, kommentelők\, álmodozók\, akárkik? Sándort keresik. Beszélgetni akarnak vele. Csak beszélgetni? Márai Sándor év van\, a nagy kassai polgárt ünnepeljük. Akit nagyon tisztelünk\, azzal megtörténhet\, hogy saját emlékművévé válik. Legendák ködébe vész. Emlegetjük\, de nem olvassuk. Idézzük\, de kontextus nélküli kiragadott mondatokban létezik. Hivatkozunk rá\, de mit tudunk róla? Fontos nekünk\, de az ájult tisztelet szintjén. Belengi a pátosz\, megfojtja a rajongás\, láthatatlanná teszi őt az áhítat. Az ünnepelt zseni nagy kívülálló volt és nagy magányos. Mániákusan gondolkodott\, küzdött\, vágyakozott. Tisztán látott\, érzékeny volt\, tévedett. Összefüggéseket keresett\, gyönyörű mondatokba menekült\, önző volt. Sebezhető volt és fölényesen erős és okos. Életművében összeért kozmosz és bolhapiac\, világtörténelem és hajhullás\, alkotói felelősség és az élet apró szépségei\, melyeket séta közben vesz észre az ember. \nMárai Sándor Mágia című kötetének nyolc novellája alapján Forgács Miklós és Czajlik József álmodott meg egy olyan világot\, amely még a hétpróbás Márai-szakértőket és rajongókat is meglepheti. Izgalmas történet bontakozik ki a Mester és teremtményei között. A hasbeszélő és nyolc éve elhagyott bábjai beszélgetnek.\nAzt követjük\, ahogy ők egymás között tisztázzák a múltat\, felelevenítik azokat az élményeket\, amelyek alakították őket\, a saját identitásukat is vizsgálják\, eljutnak a végső kérdésig: Ki vagyok én? A szereplők művészek is\, de a hétköznapi életben is megmerítkeznek. A tengert akarják látni\, arról beszélgetnek\, hogyan is ismerkedtek meg\, mit is gondolnak az otthonukról\, miképpen élik meg a nagy csalódást és vágynak magányra\, milyen egészen meglepő elhatározásra jutnak\, ha tényleg szeretetre vágynak. És persze megelevenedik a cirkusz\, az orfeum varázslatos világa is. Csupaszín\, váltás\, meglepetés\, ötlet ez a különös világ. Áradó\, mágikus mondatok és megkapó\, finom vagy éppen groteszkbe hajló humor. Márai minden történetében arról mesél: Nagyon törékenyek vagyunk mi emberek. \nSzereplők: \n\n\n\nARTÚR (A MESTER)\nGál Tamás (Jászai Mari-díjas) m.v.\n\n\nDEBÓRA\nKövesdi Szabó Mária m.v\n\n\nEDGÁR\nOllé Erik\n\n\nEVELIN\nNagy Kornélia\n\n\nBARNABÁS\nMadarász Máté\n\n\n\n  \nRendező: Czajlik József \nBemutató: 2025. október 16. \n\nTovábbi időpontok\n\n28.10.2025 10:00 – 11:30 · Thália Színház – Csendes L. bérlet\n29.10.2025 10:00 – 11:30 · Thália Színház – Kovács J. bérlet\n30.10.2025 19:00 – 20:30 · Thália Színház – Gyurkovics M. bérlet\n07.11.2025 19:00 – 20:30 · Thália Színház – László G. bérlet\n11.11.2025 10:00 – 11:30 · Thália Színház\n11.11.2025 19:00 – 20:30 · Thália Színház – V. Szabó R. bérlet\n12.11.2025 19:00 – 20:30 · Thália Színház – Pólos Á. bérlet
URL:https://amikassa.sk/esemeny/thalia-szinhaz-box-humana-mi-van-veled-sandor-5/
LOCATION:Thália Színház\, Mojmírova 3\, Kassa-Košice\, 04001\, Szlovákia
CATEGORIES:Színház
ATTACH;FMTTYPE=image/jpeg:https://amikassa.sk/wp-content/uploads/2025/10/RN_Thalia_boxhumana_highres-92-scaled.jpg
ORGANIZER;CN="Th%C3%A1lia Sz%C3%ADnh%C3%A1z":MAILTO:office@thaliaszinhaz.sk
END:VEVENT
BEGIN:VEVENT
DTSTART;TZID=Europe/Budapest:20251030T190000
DTEND;TZID=Europe/Budapest:20251030T203000
DTSTAMP:20260426T022127
CREATED:20251020T083911Z
LAST-MODIFIED:20251020T083937Z
UID:40059-1761850800-1761856200@amikassa.sk
SUMMARY:Thália Színház: Box Humana (Mi van veled\, Sándor?)
DESCRIPTION:Box Humana (Mi van veled\, Sándor?)\nIdőpont: 30.10.2025 19:00 – 20:30 \nHelyszín: Thália Színház – Gyurkovics M. bérlet \nFurcsa alakok egy csoportja bukkan föl a színpadon. Kik ők? Kutatók\, tudósok\, művészek\, polgárok\, aktivisták\, időutazók\, kommentelők\, álmodozók\, akárkik? Sándort keresik. Beszélgetni akarnak vele. Csak beszélgetni? Márai Sándor év van\, a nagy kassai polgárt ünnepeljük. Akit nagyon tisztelünk\, azzal megtörténhet\, hogy saját emlékművévé válik. Legendák ködébe vész. Emlegetjük\, de nem olvassuk. Idézzük\, de kontextus nélküli kiragadott mondatokban létezik. Hivatkozunk rá\, de mit tudunk róla? Fontos nekünk\, de az ájult tisztelet szintjén. Belengi a pátosz\, megfojtja a rajongás\, láthatatlanná teszi őt az áhítat. Az ünnepelt zseni nagy kívülálló volt és nagy magányos. Mániákusan gondolkodott\, küzdött\, vágyakozott. Tisztán látott\, érzékeny volt\, tévedett. Összefüggéseket keresett\, gyönyörű mondatokba menekült\, önző volt. Sebezhető volt és fölényesen erős és okos. Életművében összeért kozmosz és bolhapiac\, világtörténelem és hajhullás\, alkotói felelősség és az élet apró szépségei\, melyeket séta közben vesz észre az ember. \nMárai Sándor Mágia című kötetének nyolc novellája alapján Forgács Miklós és Czajlik József álmodott meg egy olyan világot\, amely még a hétpróbás Márai-szakértőket és rajongókat is meglepheti. Izgalmas történet bontakozik ki a Mester és teremtményei között. A hasbeszélő és nyolc éve elhagyott bábjai beszélgetnek.\nAzt követjük\, ahogy ők egymás között tisztázzák a múltat\, felelevenítik azokat az élményeket\, amelyek alakították őket\, a saját identitásukat is vizsgálják\, eljutnak a végső kérdésig: Ki vagyok én? A szereplők művészek is\, de a hétköznapi életben is megmerítkeznek. A tengert akarják látni\, arról beszélgetnek\, hogyan is ismerkedtek meg\, mit is gondolnak az otthonukról\, miképpen élik meg a nagy csalódást és vágynak magányra\, milyen egészen meglepő elhatározásra jutnak\, ha tényleg szeretetre vágynak. És persze megelevenedik a cirkusz\, az orfeum varázslatos világa is. Csupaszín\, váltás\, meglepetés\, ötlet ez a különös világ. Áradó\, mágikus mondatok és megkapó\, finom vagy éppen groteszkbe hajló humor. Márai minden történetében arról mesél: Nagyon törékenyek vagyunk mi emberek. \nSzereplők: \n\n\n\nARTÚR (A MESTER)\nGál Tamás (Jászai Mari-díjas) m.v.\n\n\nDEBÓRA\nKövesdi Szabó Mária m.v\n\n\nEDGÁR\nOllé Erik\n\n\nEVELIN\nNagy Kornélia\n\n\nBARNABÁS\nMadarász Máté\n\n\n\n  \nRendező: Czajlik József \nBemutató: 2025. október 16. \n\nTovábbi időpontok\n\n28.10.2025 10:00 – 11:30 · Thália Színház – Csendes L. bérlet\n29.10.2025 10:00 – 11:30 · Thália Színház – Kovács J. bérlet\n30.10.2025 19:00 – 20:30 · Thália Színház – Gyurkovics M. bérlet\n07.11.2025 19:00 – 20:30 · Thália Színház – László G. bérlet\n11.11.2025 10:00 – 11:30 · Thália Színház\n11.11.2025 19:00 – 20:30 · Thália Színház – V. Szabó R. bérlet\n12.11.2025 19:00 – 20:30 · Thália Színház – Pólos Á. bérlet
URL:https://amikassa.sk/esemeny/40059/
LOCATION:Thália Színház\, Mojmírova 3\, Kassa-Košice\, 04001\, Szlovákia
CATEGORIES:Színház
ATTACH;FMTTYPE=image/jpeg:https://amikassa.sk/wp-content/uploads/2025/10/RN_Thalia_boxhumana_highres-92-scaled.jpg
ORGANIZER;CN="Th%C3%A1lia Sz%C3%ADnh%C3%A1z":MAILTO:office@thaliaszinhaz.sk
END:VEVENT
END:VCALENDAR